BEGIN:VCALENDAR
VERSION:2.0
PRODID:-//The Treehouse Lounge - ECPv6.15.20//NONSGML v1.0//EN
CALSCALE:GREGORIAN
METHOD:PUBLISH
X-WR-CALNAME:The Treehouse Lounge
X-ORIGINAL-URL:https://treehousemo.com
X-WR-CALDESC:Events for The Treehouse Lounge
REFRESH-INTERVAL;VALUE=DURATION:PT1H
X-Robots-Tag:noindex
X-PUBLISHED-TTL:PT1H
BEGIN:VTIMEZONE
TZID:America/Chicago
BEGIN:DAYLIGHT
TZOFFSETFROM:-0600
TZOFFSETTO:-0500
TZNAME:CDT
DTSTART:20240310T080000
END:DAYLIGHT
BEGIN:STANDARD
TZOFFSETFROM:-0500
TZOFFSETTO:-0600
TZNAME:CST
DTSTART:20241103T070000
END:STANDARD
BEGIN:DAYLIGHT
TZOFFSETFROM:-0600
TZOFFSETTO:-0500
TZNAME:CDT
DTSTART:20250309T080000
END:DAYLIGHT
BEGIN:STANDARD
TZOFFSETFROM:-0500
TZOFFSETTO:-0600
TZNAME:CST
DTSTART:20251102T070000
END:STANDARD
BEGIN:DAYLIGHT
TZOFFSETFROM:-0600
TZOFFSETTO:-0500
TZNAME:CDT
DTSTART:20260308T080000
END:DAYLIGHT
BEGIN:STANDARD
TZOFFSETFROM:-0500
TZOFFSETTO:-0600
TZNAME:CST
DTSTART:20261101T070000
END:STANDARD
END:VTIMEZONE
BEGIN:VEVENT
DTSTART;TZID=America/Chicago:20250411T220000
DTEND;TZID=America/Chicago:20250412T010000
DTSTAMP:20260425T224621
CREATED:20250404T133737Z
LAST-MODIFIED:20250404T133737Z
UID:2319-1744408800-1744419600@treehousemo.com
SUMMARY:Cannabis Commune - Industry Only Mixer
DESCRIPTION:After hours Industry Mixer – Free with Agent ID\nThis event is for people in the industry who want to connect with others in the industry!\nLive music or DJ to be announced.\n21+\nAs always\, open d@b bar.\nSponsors:\nVIBE\nWANA\nCLOVR
URL:https://treehousemo.com/event/cannabis-commune-industry-only-mixer-2/
LOCATION:The Treehouse Lounge\, 2142 N Sports Complex Ln\, Suite A\, Nixa\, MO\, 65714\, United States
ATTACH;FMTTYPE=image/png:https://treehousemo.com/wp-content/uploads/2025/04/Cannabis-Commune-10-e1743773850877.png
ORGANIZER;CN="The Treehouse Lounge":MAILTO:thetreehousemo@gmail.com
END:VEVENT
BEGIN:VEVENT
DTSTART;TZID=America/Chicago:20250412T123000
DTEND;TZID=America/Chicago:20250412T140000
DTSTAMP:20260425T224621
CREATED:20250403T162015Z
LAST-MODIFIED:20250410T181846Z
UID:2304-1744461000-1744466400@treehousemo.com
SUMMARY:Elevated Yoga
DESCRIPTION:BUY TIX HERE\n \nArrive at 12:30\, to put your mat down\, visit the open d@b bar\, light one up\, and burn one down.Class begins at 1p. It’s a perfect way to spend a Saturday afternoon!All levels welcome!Bring your own mat. Class taught by Erin Kramer$15 at the door and includes a daily membership pass for the entire day! Satruday hours are 2p-12afree for annual members.Don’t miss this serene and soulful experience!21+Open d@b bar.byob – bring your own bud. NFS
URL:https://treehousemo.com/event/elevated-yoga-6/
LOCATION:The Treehouse Lounge\, 2142 N Sports Complex Ln\, Suite A\, Nixa\, MO\, 65714\, United States
ATTACH;FMTTYPE=image/png:https://treehousemo.com/wp-content/uploads/2025/04/Elevated-Yoga-e1743697203494.png
ORGANIZER;CN="The Treehouse Lounge":MAILTO:thetreehousemo@gmail.com
END:VEVENT
END:VCALENDAR