BEGIN:VCALENDAR
VERSION:2.0
PRODID:-//The Treehouse Lounge - ECPv6.15.20//NONSGML v1.0//EN
CALSCALE:GREGORIAN
METHOD:PUBLISH
X-WR-CALNAME:The Treehouse Lounge
X-ORIGINAL-URL:https://treehousemo.com
X-WR-CALDESC:Events for The Treehouse Lounge
REFRESH-INTERVAL;VALUE=DURATION:PT1H
X-Robots-Tag:noindex
X-PUBLISHED-TTL:PT1H
BEGIN:VTIMEZONE
TZID:America/Chicago
BEGIN:DAYLIGHT
TZOFFSETFROM:-0600
TZOFFSETTO:-0500
TZNAME:CDT
DTSTART:20240310T080000
END:DAYLIGHT
BEGIN:STANDARD
TZOFFSETFROM:-0500
TZOFFSETTO:-0600
TZNAME:CST
DTSTART:20241103T070000
END:STANDARD
BEGIN:DAYLIGHT
TZOFFSETFROM:-0600
TZOFFSETTO:-0500
TZNAME:CDT
DTSTART:20250309T080000
END:DAYLIGHT
BEGIN:STANDARD
TZOFFSETFROM:-0500
TZOFFSETTO:-0600
TZNAME:CST
DTSTART:20251102T070000
END:STANDARD
BEGIN:DAYLIGHT
TZOFFSETFROM:-0600
TZOFFSETTO:-0500
TZNAME:CDT
DTSTART:20260308T080000
END:DAYLIGHT
BEGIN:STANDARD
TZOFFSETFROM:-0500
TZOFFSETTO:-0600
TZNAME:CST
DTSTART:20261101T070000
END:STANDARD
END:VTIMEZONE
BEGIN:VEVENT
DTSTART;TZID=America/Chicago:20250427T130000
DTEND;TZID=America/Chicago:20250427T180000
DTSTAMP:20260420T185037
CREATED:20250404T132358Z
LAST-MODIFIED:20250404T132358Z
UID:2313-1745758800-1745776800@treehousemo.com
SUMMARY:2 Headed Giant MTG Tournament
DESCRIPTION:Two-Headed Beast Magic: The Gathering TournamentHosted at The Treehouse Lounge by HyperionSun TCG Date & Time: April 27\, 2025 check in starts at 1pm Location: The Treehouse Cannabis Lounge Entry Fee: $25\nGather your strongest ally and battle as a two-headed beast in this epic Magic: The Gathering tournament! Whether you’re a seasoned duo or looking for a new challenge\, this event is for you.If you are a single player no worries we will have a post on our Facebook event page for people to team up as well!!\n Prizes 1st Place: $200 + 2-1 day membership passes to The Treehouse 2nd Place: 2 Collector Packs + 2 Pre-rolls 3rd Place: 1 Free Booster Pack of ChoiceAs always free treats\, Dab Bar\, and goodies all day!!!\n Tournament Format & RulesWe will continue same rules as last tournament bracket 2 no tutors\, extra turns are limited to one\, no mass land denials\ no game changers (if an update is made to bracket system we will look at it at that time)\nLife starts at 60 for both teams.The starting team cannot draw on their first turn.Commander damage is 21 per commander.Infect is 15.All other standard commander/EDH rules\banned cards apply.\n\nWhat is 2HG Commander?2HG (otherwise known as two headed giant) is a Magic: the Gathering variant where 4 players form 2 teams of 2 and face off against one another. Much like a normal 2 player game these teams are seen as a single entity. Teammates will go through all their phases together however they can only directly interact with things they own or are under their direct control.\n2HG Commander marries the two formats of two-headed giant and Commander/EDH. 2 teams of two playing a 1v1 commander game.\nWhat are the rules?There are a few ways to play this format but here is DFL Game’s official unofficial 2HG Commander rules:\n\nHow does combat work?Combat in 2HG can be a tad difficult to understand at first. Here are a few helpful tips to get your started.\nYou and your partner enter combat at the same time.You can only attack/block with creatures you control.When you enter combat you must declare what player or planeswalker you are attacking with each creature. This is important for things like infect\, commander damage\, and some card effects.You may block a creature attacking your partner with one you control.Cards that refer to things like “attacking creatures you control” do not include your partner’s creatures or permanents.FAQHow do extra turns work in 2HG?‍\nIf you take an extra turn you and your teammate will take the extra turn together. Same goes for losing or ending a turn.
URL:https://treehousemo.com/event/2-headed-giant-mtg-tournament/
LOCATION:The Treehouse Lounge\, 2142 N Sports Complex Ln\, Suite A\, Nixa\, MO\, 65714\, United States
ATTACH;FMTTYPE=image/jpeg:https://treehousemo.com/wp-content/uploads/2025/04/488628045_122149342856504015_417758199286090803_n-e1743773031482.jpg
END:VEVENT
BEGIN:VEVENT
DTSTART;TZID=America/Chicago:20250427T180000
DTEND;TZID=America/Chicago:20250427T200000
DTSTAMP:20260420T185037
CREATED:20250404T131446Z
LAST-MODIFIED:20250404T131457Z
UID:2307-1745776800-1745784000@treehousemo.com
SUMMARY:Boot Scoot & Doobie
DESCRIPTION:Put your boots on. Grab your partner. Giddy up to The Treehouse Lounge for a line dance class\, Boot Scoot & Doob¡e\, taught by Yallternative Dance Troupe!An unforgettable experience filled with energy\, rhythm\, and fun! Yallternative’s expert instructors guarantee to get you dancing. You’ll definitely ELEVATE your line dancing to the next level!The Lounge opens at 2p and your pass is good all day. The sesh starts at 6p. As always\, an open d@b bar and free pre r0|| is included.Dancing starts at 7p!$15 for daily membership pass. Free for annual members.21+BYOB\, bring your own bud\, NFS.
URL:https://treehousemo.com/event/boot-scoot-doobie-3/
LOCATION:The Treehouse Lounge\, 2142 N Sports Complex Ln\, Suite A\, Nixa\, MO\, 65714\, United States
ATTACH;FMTTYPE=image/png:https://treehousemo.com/wp-content/uploads/2025/04/Line-Dance-1-e1743772480661.png
ORGANIZER;CN="The Treehouse Lounge":MAILTO:thetreehousemo@gmail.com
END:VEVENT
END:VCALENDAR