BEGIN:VCALENDAR
VERSION:2.0
PRODID:-//The Treehouse Lounge - ECPv6.15.20//NONSGML v1.0//EN
CALSCALE:GREGORIAN
METHOD:PUBLISH
X-ORIGINAL-URL:https://treehousemo.com
X-WR-CALDESC:Events for The Treehouse Lounge
REFRESH-INTERVAL;VALUE=DURATION:PT1H
X-Robots-Tag:noindex
X-PUBLISHED-TTL:PT1H
BEGIN:VTIMEZONE
TZID:America/Chicago
BEGIN:DAYLIGHT
TZOFFSETFROM:-0600
TZOFFSETTO:-0500
TZNAME:CDT
DTSTART:20240310T080000
END:DAYLIGHT
BEGIN:STANDARD
TZOFFSETFROM:-0500
TZOFFSETTO:-0600
TZNAME:CST
DTSTART:20241103T070000
END:STANDARD
BEGIN:DAYLIGHT
TZOFFSETFROM:-0600
TZOFFSETTO:-0500
TZNAME:CDT
DTSTART:20250309T080000
END:DAYLIGHT
BEGIN:STANDARD
TZOFFSETFROM:-0500
TZOFFSETTO:-0600
TZNAME:CST
DTSTART:20251102T070000
END:STANDARD
BEGIN:DAYLIGHT
TZOFFSETFROM:-0600
TZOFFSETTO:-0500
TZNAME:CDT
DTSTART:20260308T080000
END:DAYLIGHT
BEGIN:STANDARD
TZOFFSETFROM:-0500
TZOFFSETTO:-0600
TZNAME:CST
DTSTART:20261101T070000
END:STANDARD
BEGIN:DAYLIGHT
TZOFFSETFROM:-0600
TZOFFSETTO:-0500
TZNAME:CDT
DTSTART:20270314T080000
END:DAYLIGHT
BEGIN:STANDARD
TZOFFSETFROM:-0500
TZOFFSETTO:-0600
TZNAME:CST
DTSTART:20271107T070000
END:STANDARD
END:VTIMEZONE
BEGIN:VEVENT
DTSTART;TZID=America/Chicago:20260504T183000
DTEND;TZID=America/Chicago:20260504T183000
DTSTAMP:20260420T125753
CREATED:20250502T173854Z
LAST-MODIFIED:20260403T155212Z
UID:2362-1777919400-1777919400@treehousemo.com
SUMMARY:Lightsaber Yoga May the 4th be with you!
DESCRIPTION:Have fun with doing yoga with lightsabers on Star Wars Day! May The 4th Be With You!\nEmily Blink leads a gentle class designed for everyBODY! “Zen with Em”\nDoors open at 6:30 to sesh and pick your lighsaber.Bring your own mat.\n$15 for the class\, 7-8Pbyob\, bring your own bud NFSopen d@b ba
URL:https://treehousemo.com/event/lightsaber-yoga-may-the-4th-be-with-you/
LOCATION:The Treehouse Lounge\, 2142 N Sports Complex Ln\, Suite A\, Nixa\, MO\, 65714\, United States
ATTACH;FMTTYPE=image/png:https://treehousemo.com/wp-content/uploads/2025/05/858f8b6b-e4d5-485a-901f-bb17d5f15d10.png
ORGANIZER;CN="The Treehouse Lounge":MAILTO:thetreehousemo@gmail.com
END:VEVENT
BEGIN:VEVENT
DTSTART;TZID=America/Chicago:20250504T160000
DTEND;TZID=America/Chicago:20250504T200000
DTSTAMP:20260420T125753
CREATED:20250502T174013Z
LAST-MODIFIED:20250502T174053Z
UID:2364-1746374400-1746388800@treehousemo.com
SUMMARY:Cinco De Higho
DESCRIPTION:Celebrate Cinco De Higho at The Treehouse Lounge with games like Pass the Puff\, a pinata filled with 4 Twenty goodies\, and infused mock margaritas and other fun drinks!Don Tono Food Truck on site!!!$15 for the event and daily membership passFree for annual membersByob\, bring your own bud. NFS21+
URL:https://treehousemo.com/event/cinco-de-higho/
LOCATION:The Treehouse Lounge\, 2142 N Sports Complex Ln\, Suite A\, Nixa\, MO\, 65714\, United States
ATTACH;FMTTYPE=image/png:https://treehousemo.com/wp-content/uploads/2025/05/Cinco-de-Higho-2-e1746207606468.png
ORGANIZER;CN="The Treehouse Lounge":MAILTO:thetreehousemo@gmail.com
END:VEVENT
END:VCALENDAR