BEGIN:VCALENDAR
VERSION:2.0
PRODID:-//The Treehouse Lounge - ECPv6.15.20//NONSGML v1.0//EN
CALSCALE:GREGORIAN
METHOD:PUBLISH
X-ORIGINAL-URL:https://treehousemo.com
X-WR-CALDESC:Events for The Treehouse Lounge
REFRESH-INTERVAL;VALUE=DURATION:PT1H
X-Robots-Tag:noindex
X-PUBLISHED-TTL:PT1H
BEGIN:VTIMEZONE
TZID:America/Chicago
BEGIN:DAYLIGHT
TZOFFSETFROM:-0600
TZOFFSETTO:-0500
TZNAME:CDT
DTSTART:20240310T080000
END:DAYLIGHT
BEGIN:STANDARD
TZOFFSETFROM:-0500
TZOFFSETTO:-0600
TZNAME:CST
DTSTART:20241103T070000
END:STANDARD
BEGIN:DAYLIGHT
TZOFFSETFROM:-0600
TZOFFSETTO:-0500
TZNAME:CDT
DTSTART:20250309T080000
END:DAYLIGHT
BEGIN:STANDARD
TZOFFSETFROM:-0500
TZOFFSETTO:-0600
TZNAME:CST
DTSTART:20251102T070000
END:STANDARD
BEGIN:DAYLIGHT
TZOFFSETFROM:-0600
TZOFFSETTO:-0500
TZNAME:CDT
DTSTART:20260308T080000
END:DAYLIGHT
BEGIN:STANDARD
TZOFFSETFROM:-0500
TZOFFSETTO:-0600
TZNAME:CST
DTSTART:20261101T070000
END:STANDARD
END:VTIMEZONE
BEGIN:VEVENT
DTSTART;TZID=America/Chicago:20250510T123000
DTEND;TZID=America/Chicago:20250510T140000
DTSTAMP:20260420T184824
CREATED:20250502T175015Z
LAST-MODIFIED:20250502T175015Z
UID:2368-1746880200-1746885600@treehousemo.com
SUMMARY:Elevated Yoga
DESCRIPTION:Arrive at 12:30p\, to put your mat down\, visit the open d@b and v@pe bar\, light one up\, and burn one down. Class begins at 1p. It’s a perfect way to spend a Saturday afternoon! Erin Kramer guides us through a fun and light flow.All levels welcome! Bring your own mat.$15 at the door and includes a membership for the whole day! (Purchased at the door.) Saturday hours are from 2p-12aFree for annual members.21+Open d@b bar.byob – bring your own bud. NFS
URL:https://treehousemo.com/event/elevated-yoga-7/
LOCATION:The Treehouse Lounge\, 2142 N Sports Complex Ln\, Suite A\, Nixa\, MO\, 65714\, United States
ATTACH;FMTTYPE=image/png:https://treehousemo.com/wp-content/uploads/2025/05/womens-class-2-e1746208195383.png
ORGANIZER;CN="The Treehouse Lounge":MAILTO:thetreehousemo@gmail.com
END:VEVENT
BEGIN:VEVENT
DTSTART;TZID=America/Chicago:20250510T200000
DTEND;TZID=America/Chicago:20250510T220000
DTSTAMP:20260420T184824
CREATED:20250508T021510Z
LAST-MODIFIED:20250508T021510Z
UID:2395-1746907200-1746914400@treehousemo.com
SUMMARY:Plingo
DESCRIPTION:A brand new game to The Treehouse Lounge! Test your skills at the classic game of Plinko with a b¡ngo twist!All different kinds of prizes awarded!Come have a fun Saturday night with all your friends at The Treehouse!$20 for the daily membership pass\, includes your first Plingo card. Each additional card is $5.$5 for annual members.Open d@b and v@pe bar.21+byob\, bring your own bud. NFS
URL:https://treehousemo.com/event/plingo/
LOCATION:The Treehouse Lounge\, 2142 N Sports Complex Ln\, Suite A\, Nixa\, MO\, 65714\, United States
ATTACH;FMTTYPE=image/png:https://treehousemo.com/wp-content/uploads/2025/05/Plingo-e1746670480992.png
ORGANIZER;CN="The Treehouse Lounge":MAILTO:thetreehousemo@gmail.com
END:VEVENT
END:VCALENDAR