BEGIN:VCALENDAR
VERSION:2.0
PRODID:-//The Treehouse Lounge - ECPv6.15.20//NONSGML v1.0//EN
CALSCALE:GREGORIAN
METHOD:PUBLISH
X-ORIGINAL-URL:https://treehousemo.com
X-WR-CALDESC:Events for The Treehouse Lounge
REFRESH-INTERVAL;VALUE=DURATION:PT1H
X-Robots-Tag:noindex
X-PUBLISHED-TTL:PT1H
BEGIN:VTIMEZONE
TZID:America/Chicago
BEGIN:DAYLIGHT
TZOFFSETFROM:-0600
TZOFFSETTO:-0500
TZNAME:CDT
DTSTART:20240310T080000
END:DAYLIGHT
BEGIN:STANDARD
TZOFFSETFROM:-0500
TZOFFSETTO:-0600
TZNAME:CST
DTSTART:20241103T070000
END:STANDARD
BEGIN:DAYLIGHT
TZOFFSETFROM:-0600
TZOFFSETTO:-0500
TZNAME:CDT
DTSTART:20250309T080000
END:DAYLIGHT
BEGIN:STANDARD
TZOFFSETFROM:-0500
TZOFFSETTO:-0600
TZNAME:CST
DTSTART:20251102T070000
END:STANDARD
BEGIN:DAYLIGHT
TZOFFSETFROM:-0600
TZOFFSETTO:-0500
TZNAME:CDT
DTSTART:20260308T080000
END:DAYLIGHT
BEGIN:STANDARD
TZOFFSETFROM:-0500
TZOFFSETTO:-0600
TZNAME:CST
DTSTART:20261101T070000
END:STANDARD
END:VTIMEZONE
BEGIN:VEVENT
DTSTART;TZID=America/Chicago:20250518T150000
DTEND;TZID=America/Chicago:20250518T180000
DTSTAMP:20260420T125642
CREATED:20250502T180632Z
LAST-MODIFIED:20250502T180632Z
UID:2380-1747580400-1747591200@treehousemo.com
SUMMARY:Tie Dye Workshop
DESCRIPTION: Tie-Dye & High Vibes: A Sunday Afternoon Workshop \nJoin us for a colorful and creative Tie-Dye Workshop hosted by Small Town Smoke Shop on a laid-back Sunday afternoon!\nLet your imagination flow as you design your own one-of-a-kind creation! We’ll provide all the supplies you need — just bring your creativity and your favorite bud to enjoy!\nAs always outside delivery food allowed but we also have all the munchie food you could want here! Including drinks!\nPrer0||\, open d@b and v@pe bar included in the event.\nWhether you’re a tie-dye pro or a total beginner\, our host will guide you through the process step by step. Come sesh\, connect with friends\, and leave with a wearable memory of your afternoon.\n$15 for event and daily membership pass which includes all day access!Sunday hours are 2p-10p. Come and go as you please.Shirts and other clothing to tye dye purchased directly from Small Town Smoke Shop and not included in the daily membership pass.Free for annual members.21+byob\, bring your own bud. NFS
URL:https://treehousemo.com/event/tie-dye-workshop/
LOCATION:The Treehouse Lounge\, 2142 N Sports Complex Ln\, Suite A\, Nixa\, MO\, 65714\, United States
ATTACH;FMTTYPE=image/png:https://treehousemo.com/wp-content/uploads/2025/05/Warm-Rainbow-Hues-Tie-Dye-Text-Notification-Instagram-Post-1-e1746209184418.png
ORGANIZER;CN="The Treehouse Lounge":MAILTO:thetreehousemo@gmail.com
END:VEVENT
END:VCALENDAR