BEGIN:VCALENDAR
VERSION:2.0
PRODID:-//The Treehouse Lounge - ECPv6.15.20//NONSGML v1.0//EN
CALSCALE:GREGORIAN
METHOD:PUBLISH
X-ORIGINAL-URL:https://treehousemo.com
X-WR-CALDESC:Events for The Treehouse Lounge
REFRESH-INTERVAL;VALUE=DURATION:PT1H
X-Robots-Tag:noindex
X-PUBLISHED-TTL:PT1H
BEGIN:VTIMEZONE
TZID:America/Chicago
BEGIN:DAYLIGHT
TZOFFSETFROM:-0600
TZOFFSETTO:-0500
TZNAME:CDT
DTSTART:20240310T080000
END:DAYLIGHT
BEGIN:STANDARD
TZOFFSETFROM:-0500
TZOFFSETTO:-0600
TZNAME:CST
DTSTART:20241103T070000
END:STANDARD
BEGIN:DAYLIGHT
TZOFFSETFROM:-0600
TZOFFSETTO:-0500
TZNAME:CDT
DTSTART:20250309T080000
END:DAYLIGHT
BEGIN:STANDARD
TZOFFSETFROM:-0500
TZOFFSETTO:-0600
TZNAME:CST
DTSTART:20251102T070000
END:STANDARD
BEGIN:DAYLIGHT
TZOFFSETFROM:-0600
TZOFFSETTO:-0500
TZNAME:CDT
DTSTART:20260308T080000
END:DAYLIGHT
BEGIN:STANDARD
TZOFFSETFROM:-0500
TZOFFSETTO:-0600
TZNAME:CST
DTSTART:20261101T070000
END:STANDARD
END:VTIMEZONE
BEGIN:VEVENT
DTSTART;TZID=America/Chicago:20250525T120000
DTEND;TZID=America/Chicago:20250525T170000
DTSTAMP:20260420T202937
CREATED:20250502T180817Z
LAST-MODIFIED:20250502T180817Z
UID:2383-1748174400-1748192400@treehousemo.com
SUMMARY:Magic the Gathering Tournament
DESCRIPTION:more info and details to come
URL:https://treehousemo.com/event/magic-the-gathering-tournament/
LOCATION:The Treehouse Lounge\, 2142 N Sports Complex Ln\, Suite A\, Nixa\, MO\, 65714\, United States
END:VEVENT
BEGIN:VEVENT
DTSTART;TZID=America/Chicago:20250525T170000
DTEND;TZID=America/Chicago:20250525T190000
DTSTAMP:20260420T202937
CREATED:20250502T181155Z
LAST-MODIFIED:20250520T171515Z
UID:2385-1748192400-1748199600@treehousemo.com
SUMMARY:Shroom School Part 1: Inoculation Basics
DESCRIPTION:PURCHASE SHROOM SCHOOL PART 1 TIX HERE: \n \n\nShroom School Part 1: Inoculation Basics with SoL Farms\n𝑬𝒗𝒆𝒏𝒕 𝑶𝒗𝒆𝒓𝒗𝒊𝒆𝒘\nShroom School Part 1: Inoculation Basics\, $77 a seat\, presented by SoL Farms provides plant medicine enthusiasts with a professional introduction to mushroom cultivation\, offering a structured foundation for growing fungi as a form of living medicine. This two-hour workshop\, led by Eden Marin\, a seasoned guide with over a decade of experience in mycology\, focuses on the precise process of inoculating North Spore all-in-one grow bags with Lion’s Mane\, a medicinal mushroom recognized for its cognitive and immune-supporting properties. SoL Farms\, a leader in plant medicine education\, delivers this class as part of its commitment to empowering individuals through professional\, hands-on learning\, integrating traditional knowledge with modern cultivation techniques to advance the understanding and application of mycology.\n𝑪𝒍𝒂𝒔𝒔 𝑫𝒆𝒔𝒄𝒓𝒊𝒑𝒕𝒊𝒐𝒏\nThe curriculum of Shroom School Part 1 is designed to equip participants with the essential skills required to initiate their mushroom cultivation journey with confidence and precision. Attendees will engage in a hands-on process\, learning to inoculate North Spore all-in-one grow bags\, which are pre-filled with grain and substrate\, using Lion’s Mane spores. The workshop covers critical techniques for maintaining sterility\, including the use of isopropyl alcohol to sanitize tools and workspaces\, ensuring the mycelium’s growth is protected from contamination by molds or bacteria. Participants will also gain a thorough understanding of the mycelium’s growth cycle\, from the initial inoculation to the colonization phase\, preparing them to monitor and nurture their grow bags effectively. Additionally\, the session includes a theoretical exploration of psilocybin science\, providing a historical and scientific perspective on fungi’s potential\, while remaining fully compliant with Missouri regulations by focusing on Lion’s Mane cultivation. Eden’s expertise ensures that each participant\, whether a novice or experienced grower\, receives clear\, actionable instruction tailored to their level of experience.\n𝑲𝒆𝒚 𝑩𝒆𝒏𝒆𝒇𝒊𝒕𝒔\nParticipants in Shroom School Part 1 will leave the workshop with their own inoculated grow bag\, a practical tool that serves as the starting point for their mycology journey\, along with a detailed knowledge base to support their ongoing practice. The class provides a comprehensive introduction to the cultivation process\, empowering attendees to produce their first harvest with confidence. Beyond technical skills\, the workshop fosters a deep appreciation for the role of fungi in plant medicine\, drawing on the historical use of mushrooms by indigenous cultures.\n21+\nbyob\, bring your own bud. NFS
URL:https://treehousemo.com/event/shroom-school-part-1-inoculation-basics/
LOCATION:The Treehouse Lounge\, 2142 N Sports Complex Ln\, Suite A\, Nixa\, MO\, 65714\, United States
ATTACH;FMTTYPE=image/png:https://treehousemo.com/wp-content/uploads/2025/05/Neutral-Beige-Orange-Minimalist-Mushroom-Typography-Instagram-Post-1-e1746209507365.png
ORGANIZER;CN="The Treehouse Lounge":MAILTO:thetreehousemo@gmail.com
END:VEVENT
END:VCALENDAR