BEGIN:VCALENDAR
VERSION:2.0
PRODID:-//The Treehouse Lounge - ECPv6.15.20//NONSGML v1.0//EN
CALSCALE:GREGORIAN
METHOD:PUBLISH
X-ORIGINAL-URL:https://treehousemo.com
X-WR-CALDESC:Events for The Treehouse Lounge
REFRESH-INTERVAL;VALUE=DURATION:PT1H
X-Robots-Tag:noindex
X-PUBLISHED-TTL:PT1H
BEGIN:VTIMEZONE
TZID:America/Chicago
BEGIN:DAYLIGHT
TZOFFSETFROM:-0600
TZOFFSETTO:-0500
TZNAME:CDT
DTSTART:20240310T080000
END:DAYLIGHT
BEGIN:STANDARD
TZOFFSETFROM:-0500
TZOFFSETTO:-0600
TZNAME:CST
DTSTART:20241103T070000
END:STANDARD
BEGIN:DAYLIGHT
TZOFFSETFROM:-0600
TZOFFSETTO:-0500
TZNAME:CDT
DTSTART:20250309T080000
END:DAYLIGHT
BEGIN:STANDARD
TZOFFSETFROM:-0500
TZOFFSETTO:-0600
TZNAME:CST
DTSTART:20251102T070000
END:STANDARD
BEGIN:DAYLIGHT
TZOFFSETFROM:-0600
TZOFFSETTO:-0500
TZNAME:CDT
DTSTART:20260308T080000
END:DAYLIGHT
BEGIN:STANDARD
TZOFFSETFROM:-0500
TZOFFSETTO:-0600
TZNAME:CST
DTSTART:20261101T070000
END:STANDARD
END:VTIMEZONE
BEGIN:VEVENT
DTSTART;TZID=America/Chicago:20250613T203000
DTEND;TZID=America/Chicago:20250613T230000
DTSTAMP:20260420T125444
CREATED:20250602T135017Z
LAST-MODIFIED:20250602T135017Z
UID:2411-1749846600-1749855600@treehousemo.com
SUMMARY:Movie On The Lawn
DESCRIPTION:Movie on the Lawn is back!!!\nThis Friday the 13th\, we’re showing a st0ner classic\, “Scary Movie.”\nSponsored by Stairway Cannabis Branson\, who will be bringing lots of fun stuff for us to share with everyone!\nHosted by 2 Chicks and a Head Shop and The Treehouse Lounge.\nCheck in inside The Treehouse Lounge for your $15 daily membership pass. This includes all day and night access to all the lounge amenities INCLUDING the free screening of the movie! As always\, the d@b bar and v@pe station are open and complimentary.\nCheck out the connecting bar for social drinks\, infused non-alcoholic mocktails.\nBring your own blankets and chairs. OR upgrade to the VIP seating for $10. That’s comfy inflatable pools filled with pillows and blankets. Limited VIP seating areas.\n21+\nByob\, bring your own bud. NFS
URL:https://treehousemo.com/event/movie-on-the-lawn/
LOCATION:The Treehouse Lounge\, 2142 N Sports Complex Ln\, Suite A\, Nixa\, MO\, 65714\, United States
ATTACH;FMTTYPE=image/png:https://treehousemo.com/wp-content/uploads/2025/06/movie-on-the-lawn-6-e1748872153375.png
END:VEVENT
END:VCALENDAR