BEGIN:VCALENDAR
VERSION:2.0
PRODID:-//The Treehouse Lounge - ECPv6.15.20//NONSGML v1.0//EN
CALSCALE:GREGORIAN
METHOD:PUBLISH
X-ORIGINAL-URL:https://treehousemo.com
X-WR-CALDESC:Events for The Treehouse Lounge
REFRESH-INTERVAL;VALUE=DURATION:PT1H
X-Robots-Tag:noindex
X-PUBLISHED-TTL:PT1H
BEGIN:VTIMEZONE
TZID:America/Chicago
BEGIN:DAYLIGHT
TZOFFSETFROM:-0600
TZOFFSETTO:-0500
TZNAME:CDT
DTSTART:20240310T080000
END:DAYLIGHT
BEGIN:STANDARD
TZOFFSETFROM:-0500
TZOFFSETTO:-0600
TZNAME:CST
DTSTART:20241103T070000
END:STANDARD
BEGIN:DAYLIGHT
TZOFFSETFROM:-0600
TZOFFSETTO:-0500
TZNAME:CDT
DTSTART:20250309T080000
END:DAYLIGHT
BEGIN:STANDARD
TZOFFSETFROM:-0500
TZOFFSETTO:-0600
TZNAME:CST
DTSTART:20251102T070000
END:STANDARD
BEGIN:DAYLIGHT
TZOFFSETFROM:-0600
TZOFFSETTO:-0500
TZNAME:CDT
DTSTART:20260308T080000
END:DAYLIGHT
BEGIN:STANDARD
TZOFFSETFROM:-0500
TZOFFSETTO:-0600
TZNAME:CST
DTSTART:20261101T070000
END:STANDARD
END:VTIMEZONE
BEGIN:VEVENT
DTSTART;TZID=America/Chicago:20250627T230000
DTEND;TZID=America/Chicago:20250628T010000
DTSTAMP:20260420T070755
CREATED:20250603T175116Z
LAST-MODIFIED:20250603T175116Z
UID:2449-1751065200-1751072400@treehousemo.com
SUMMARY:EDM or R&B Night
DESCRIPTION:Stay tuned for more deets.
URL:https://treehousemo.com/event/edm-or-rb-night/
LOCATION:The Treehouse Lounge\, 2142 N Sports Complex Ln\, Suite A\, Nixa\, MO\, 65714\, United States
ORGANIZER;CN="The Treehouse Lounge":MAILTO:thetreehousemo@gmail.com
END:VEVENT
BEGIN:VEVENT
DTSTART;TZID=America/Chicago:20250628T150000
DTEND;TZID=America/Chicago:20250628T170000
DTSTAMP:20260420T070755
CREATED:20250603T175224Z
LAST-MODIFIED:20250603T175224Z
UID:2451-1751122800-1751130000@treehousemo.com
SUMMARY:Itsa BoBo workshop
DESCRIPTION:Stay tuned for more details to come!
URL:https://treehousemo.com/event/itsa-bobo-workshop/
LOCATION:The Treehouse Lounge\, 2142 N Sports Complex Ln\, Suite A\, Nixa\, MO\, 65714\, United States
END:VEVENT
BEGIN:VEVENT
DTSTART;TZID=America/Chicago:20250628T180000
DTEND;TZID=America/Chicago:20250628T200000
DTSTAMP:20260420T070755
CREATED:20250603T175610Z
LAST-MODIFIED:20250603T175610Z
UID:2453-1751133600-1751140800@treehousemo.com
SUMMARY:Banjer Dan
DESCRIPTION:Part of our Bikez\, Bluntz\, & Bluegrass evening….\n\nBanjerDan brings his unique mix of hot pickin’\, heartfelt songs\, and humorous commentary to The Treehouse Lounge on Saturday\, June 28th\, 2025 at 6:00 PM.\nBanjerDan (Dan Mazer) is a “banjo-centric” acoustic musician and entertainer based in Santa Cruz County\, CA. His music is an Americana mix\, rooted in straight-ahead bluegrass and branching out to include folk\, country\, blues\, oldies\, and other styles.\nDan’s primary instrument is the 5-string banjo\, but he also plays guitar\, mandolin\, and dobro. He has performed all over the U.S. and internationally\, as a solo artist\, in theatrical productions and symphony orchestras\, and as a member of several bands\, most notably “J.B. Beverley & The Wayward Drifters.” He has performed in venues ranging from street corner busking to bar/coffeehouse gigs\, children’s shows\, private parties and corporate events. Some of the more notable venues include Opryland\, USA\, the Grey Fox Bluegrass Festival\, the High Sierra Music Festival\, the National Cherry Blossom Festival\, and the Kennedy Center for the Performing Arts. Dan was honored to perform overseas on behalf of the U.S. State Department\, in Israel and at an Independence Day event in Panama.\nhttp;//banjerdanmusic.com/http://facebook.com/BanjerDan/http://instagram.com/BanjerDan/https://youtube.com/@banjerdan2331/\n21+ eventThe Treehouse Lounge\, 2142 N. Sports Complex Ln. Suite A\, Nixa\, MO 65714; (417) 708-2836 • treehousemo.com/ • facebook.com/thetreehousemo/ • instagram.com/thetreehousemo/“It is The Treehouse Lounge’s mission to offer our members safe\, educational\, and enjoyable experiences to try cannabis industry equipment\, devices\, and products. This means wellness\, duration and entertainment based events where patients can safely consume cannabis in a social setting.”
URL:https://treehousemo.com/event/banjer-dan/
LOCATION:The Treehouse Lounge\, 2142 N Sports Complex Ln\, Suite A\, Nixa\, MO\, 65714\, United States
ATTACH;FMTTYPE=image/jpeg:https://treehousemo.com/wp-content/uploads/2025/06/banjer-e1748973358542.jpg
END:VEVENT
BEGIN:VEVENT
DTSTART;TZID=America/Chicago:20250628T180000
DTEND;TZID=America/Chicago:20250628T210000
DTSTAMP:20260420T070755
CREATED:20250603T175812Z
LAST-MODIFIED:20250606T131930Z
UID:2456-1751133600-1751144400@treehousemo.com
SUMMARY:Bikez\, Bluntz\, Bluegrass
DESCRIPTION:The Treehouse Lounge presents its first ever:Bikez\, Bluntz\, & Bluegrass night!\n“Park your hog; smoke a hog leg”\nLive music by returning Jordie Flip folowed up by first timer (to The Treehouse) Banjer Dan! BanjerDan (Dan Mazer) is a “banjo-centric” acoustic musician and entertainer based in Santa Cruz County\, CA. His music is an Americana mix\, rooted in straight-ahead bluegrass and branching out to include folk\, country\, blues\, oldies\, and other styles.\n$15 daily membership\, $5 off if you ride your bike inFood Truck on site21+byob\, bring your own bud. NFS
URL:https://treehousemo.com/event/bikez-bluntz-bluegrass/
LOCATION:The Treehouse Lounge\, 2142 N Sports Complex Ln\, Suite A\, Nixa\, MO\, 65714\, United States
ATTACH;FMTTYPE=image/png:https://treehousemo.com/wp-content/uploads/2025/06/bike-bluntz-bluegrass-1-e1749215959194.png
END:VEVENT
END:VCALENDAR