BEGIN:VCALENDAR
VERSION:2.0
PRODID:-//The Treehouse Lounge - ECPv6.15.20//NONSGML v1.0//EN
CALSCALE:GREGORIAN
METHOD:PUBLISH
X-WR-CALNAME:The Treehouse Lounge
X-ORIGINAL-URL:https://treehousemo.com
X-WR-CALDESC:Events for The Treehouse Lounge
REFRESH-INTERVAL;VALUE=DURATION:PT1H
X-Robots-Tag:noindex
X-PUBLISHED-TTL:PT1H
BEGIN:VTIMEZONE
TZID:America/Chicago
BEGIN:DAYLIGHT
TZOFFSETFROM:-0600
TZOFFSETTO:-0500
TZNAME:CDT
DTSTART:20240310T080000
END:DAYLIGHT
BEGIN:STANDARD
TZOFFSETFROM:-0500
TZOFFSETTO:-0600
TZNAME:CST
DTSTART:20241103T070000
END:STANDARD
BEGIN:DAYLIGHT
TZOFFSETFROM:-0600
TZOFFSETTO:-0500
TZNAME:CDT
DTSTART:20250309T080000
END:DAYLIGHT
BEGIN:STANDARD
TZOFFSETFROM:-0500
TZOFFSETTO:-0600
TZNAME:CST
DTSTART:20251102T070000
END:STANDARD
BEGIN:DAYLIGHT
TZOFFSETFROM:-0600
TZOFFSETTO:-0500
TZNAME:CDT
DTSTART:20260308T080000
END:DAYLIGHT
BEGIN:STANDARD
TZOFFSETFROM:-0500
TZOFFSETTO:-0600
TZNAME:CST
DTSTART:20261101T070000
END:STANDARD
END:VTIMEZONE
BEGIN:VEVENT
DTSTART;TZID=America/Chicago:20250629T110000
DTEND;TZID=America/Chicago:20250629T160000
DTSTAMP:20260420T112519
CREATED:20250603T181407Z
LAST-MODIFIED:20250606T155340Z
UID:2458-1751194800-1751212800@treehousemo.com
SUMMARY:Puff Puff Puss Drag Brunch
DESCRIPTION:A 420 Drag Brunch and Pride Party! \n…brought to you by Twisted Treats!\nEnjoy a brunch buffet with infused pancakes\, pastries\, and syrups. All of your favorite brunch and pride themed infused mocktails. Plus\, as always our open and complimentary d@b bar.\nExpect a killer drag show from some of your favorite local queens\, including Elle SD\, Reggie So Kold and hosted by Amanduh Tux!\nWe’ll have dozens of different vendors from the canna industry\, the lgbtq+ community\, crafters\, artists\, designers and more. There will even be a fashion show in the afternoon! Live DJ the entire event! You’re gonna want to be here! 21+\n3 Different Ticket Options Below!\n  \n  \n\n  \n 
URL:https://treehousemo.com/event/puff-puff-puss/
LOCATION:The Treehouse Lounge\, 2142 N Sports Complex Ln\, Suite A\, Nixa\, MO\, 65714\, United States
ATTACH;FMTTYPE=image/jpeg:https://treehousemo.com/wp-content/uploads/2025/06/pppuss-e1748974440792.jpg
END:VEVENT
END:VCALENDAR