BEGIN:VCALENDAR
VERSION:2.0
PRODID:-//The Treehouse Lounge - ECPv6.15.20//NONSGML v1.0//EN
CALSCALE:GREGORIAN
METHOD:PUBLISH
X-WR-CALNAME:The Treehouse Lounge
X-ORIGINAL-URL:https://treehousemo.com
X-WR-CALDESC:Events for The Treehouse Lounge
REFRESH-INTERVAL;VALUE=DURATION:PT1H
X-Robots-Tag:noindex
X-PUBLISHED-TTL:PT1H
BEGIN:VTIMEZONE
TZID:America/Chicago
BEGIN:DAYLIGHT
TZOFFSETFROM:-0600
TZOFFSETTO:-0500
TZNAME:CDT
DTSTART:20240310T080000
END:DAYLIGHT
BEGIN:STANDARD
TZOFFSETFROM:-0500
TZOFFSETTO:-0600
TZNAME:CST
DTSTART:20241103T070000
END:STANDARD
BEGIN:DAYLIGHT
TZOFFSETFROM:-0600
TZOFFSETTO:-0500
TZNAME:CDT
DTSTART:20250309T080000
END:DAYLIGHT
BEGIN:STANDARD
TZOFFSETFROM:-0500
TZOFFSETTO:-0600
TZNAME:CST
DTSTART:20251102T070000
END:STANDARD
BEGIN:DAYLIGHT
TZOFFSETFROM:-0600
TZOFFSETTO:-0500
TZNAME:CDT
DTSTART:20260308T080000
END:DAYLIGHT
BEGIN:STANDARD
TZOFFSETFROM:-0500
TZOFFSETTO:-0600
TZNAME:CST
DTSTART:20261101T070000
END:STANDARD
END:VTIMEZONE
BEGIN:VEVENT
DTSTART;TZID=America/Chicago:20250727T120000
DTEND;TZID=America/Chicago:20250727T170000
DTSTAMP:20260419T220852
CREATED:20250701T202155Z
LAST-MODIFIED:20250708T204841Z
UID:2535-1753617600-1753635600@treehousemo.com
SUMMARY:Monthly Magic Tournament
DESCRIPTION:Event by HyperionSun TCG and The Treehouse Lounge \n HyperionSun TCG & The Treehouse Lounge Monthly Magic: The Gathering TournamentWhere Strategy Meets Serenity Unleash your deck. Embrace the vibe. Modified Bracket 2: 2 non land tutor max Location:Treehouse Lounge Springfield’s premier legal cannabis consumption lounge (21+ only | Valid ID required) Date & Time:Saturday\, July 27th Check-in: Noon | First Round: 1:00 PM Format:Commander– Modified Bracket 2- 2 non land tutorSwiss RoundsPrizes for Top 3 (including exclusive goodies)1st Place $1002nd Place $253rd place: free booster pack\n Lounge Perks:Chill\, cannabis-friendly environmentOn-site budtenders & curated menuMTG-themed mocktails & snacksCasual play area for non-tournament guests Entry Fee:$25 – Includes tournament entry + lounge access\n\n Whether you’re a planeswalker or just passing through\, come tap into the magic.Treehouse Lounge – Where high strategy meets higher vibes
URL:https://treehousemo.com/event/monthly-magic-tournament/
LOCATION:The Treehouse Lounge\, 2142 N Sports Complex Ln\, Suite A\, Nixa\, MO\, 65714\, United States
ATTACH;FMTTYPE=image/jpeg:https://treehousemo.com/wp-content/uploads/2025/07/515753860_122165583608504015_6018740480734711715_n-e1752007713373.jpg
END:VEVENT
BEGIN:VEVENT
DTSTART;TZID=America/Chicago:20250727T190000
DTEND;TZID=America/Chicago:20250727T210000
DTSTAMP:20260419T220852
CREATED:20250708T204428Z
LAST-MODIFIED:20250708T204428Z
UID:2543-1753642800-1753650000@treehousemo.com
SUMMARY:Shroom School Part 1: Inoculation Basics
DESCRIPTION:PURCHASE YOUR TIX HERE: \n \nShroom School Part 1: Inoculation Basics with SoL Farms\n𝑬𝒗𝒆𝒏𝒕 𝑶𝒗𝒆𝒓𝒗𝒊𝒆𝒘\nShroom School Part 1: Inoculation Basics\, $77 a seat\, presented by SoL Farms provides a professional introduction to mushroom cultivation. This two-hour workshop focuses on the precise process of inoculating North Spore all-in-one grow bags with Lion’s Mane.\n𝑪𝒍𝒂𝒔𝒔 𝑫𝒆𝒔𝒄𝒓𝒊𝒑𝒕𝒊𝒐𝒏\nAttendees will engage in a hands-on process\, learning to inoculate North Spore all-in-one grow bags\, which are pre-filled with grain and substrate\, using Lion’s Mane spores. Participants will also gain a thorough understanding of the mycelium’s growth cycle\, from the initial inoculation to the colonization phase\, preparing them to monitor and nurture their grow bags effectively. Additionally\, the session includes a theoretical exploration of psilocybin science\, providing a historical and scientific perspective on fungi’s potential\, while remaining fully compliant with Missouri regulations by focusing on Lion’s Mane cultivation.\n𝑲𝒆𝒚 𝑩𝒆𝒏𝒆𝒇𝒊𝒕𝒔\nParticipants in Shroom School Part 1 will leave the workshop with their own inoculated grow bag!\n21+\nbyob\, bring your own bud. NFS
URL:https://treehousemo.com/event/shroom-school-part-1-inoculation-basics-2/
LOCATION:The Treehouse Lounge\, 2142 N Sports Complex Ln\, Suite A\, Nixa\, MO\, 65714\, United States
ATTACH;FMTTYPE=image/png:https://treehousemo.com/wp-content/uploads/2025/07/Neutral-Beige-Orange-Minimalist-Mushroom-Typography-Instagram-Post-2-e1752007459939.png
ORGANIZER;CN="The Treehouse Lounge":MAILTO:thetreehousemo@gmail.com
END:VEVENT
END:VCALENDAR