BEGIN:VCALENDAR
VERSION:2.0
PRODID:-//The Treehouse Lounge - ECPv6.15.20//NONSGML v1.0//EN
CALSCALE:GREGORIAN
METHOD:PUBLISH
X-WR-CALNAME:The Treehouse Lounge
X-ORIGINAL-URL:https://treehousemo.com
X-WR-CALDESC:Events for The Treehouse Lounge
REFRESH-INTERVAL;VALUE=DURATION:PT1H
X-Robots-Tag:noindex
X-PUBLISHED-TTL:PT1H
BEGIN:VTIMEZONE
TZID:America/Chicago
BEGIN:DAYLIGHT
TZOFFSETFROM:-0600
TZOFFSETTO:-0500
TZNAME:CDT
DTSTART:20240310T080000
END:DAYLIGHT
BEGIN:STANDARD
TZOFFSETFROM:-0500
TZOFFSETTO:-0600
TZNAME:CST
DTSTART:20241103T070000
END:STANDARD
BEGIN:DAYLIGHT
TZOFFSETFROM:-0600
TZOFFSETTO:-0500
TZNAME:CDT
DTSTART:20250309T080000
END:DAYLIGHT
BEGIN:STANDARD
TZOFFSETFROM:-0500
TZOFFSETTO:-0600
TZNAME:CST
DTSTART:20251102T070000
END:STANDARD
BEGIN:DAYLIGHT
TZOFFSETFROM:-0600
TZOFFSETTO:-0500
TZNAME:CDT
DTSTART:20260308T080000
END:DAYLIGHT
BEGIN:STANDARD
TZOFFSETFROM:-0500
TZOFFSETTO:-0600
TZNAME:CST
DTSTART:20261101T070000
END:STANDARD
END:VTIMEZONE
BEGIN:VEVENT
DTSTART;TZID=America/Chicago:20250815T220000
DTEND;TZID=America/Chicago:20250816T010000
DTSTAMP:20260419T232012
CREATED:20250801T211702Z
LAST-MODIFIED:20250801T211702Z
UID:2625-1755295200-1755306000@treehousemo.com
SUMMARY:Cannabis Commune - Industry Mixer
DESCRIPTION:After hours Industry Mixer – Free with Agent IDThis event is for people in the industry who want to connect with others in the industry!Music and D@BS21+As always\, open and complimentary d@b bars and v@pe station.Sponsors:STIIIZY
URL:https://treehousemo.com/event/cannabis-commune-industry-mixer/
LOCATION:The Treehouse Lounge\, 2142 N Sports Complex Ln\, Suite A\, Nixa\, MO\, 65714\, United States
ATTACH;FMTTYPE=image/png:https://treehousemo.com/wp-content/uploads/2025/08/Cannabis-Commune-14-e1754082999323.png
ORGANIZER;CN="The Treehouse Lounge":MAILTO:thetreehousemo@gmail.com
END:VEVENT
BEGIN:VEVENT
DTSTART;TZID=America/Chicago:20250816T123000
DTEND;TZID=America/Chicago:20250816T140000
DTSTAMP:20260419T232012
CREATED:20250801T211840Z
LAST-MODIFIED:20250801T211840Z
UID:2628-1755347400-1755352800@treehousemo.com
SUMMARY:Elevated Yoga
DESCRIPTION:~Yoga class but in the clouds~Arrive at 12:30p\, to put your mat down\, visit the open and complimentary d@b bar and/or v@pe station\, light one up\, and burn one down. Class begins at 1p. It’s a perfect way to spend a Saturday afternoon as our teacher\, Emily Blink\, guides an all levels class!Emily ends the class in a sound bath that sends you straight to space or another dimension!!!Bring your own mat.$15 at the door and includes a membership for the whole day! (Purchased at the door.) Saturday hours are from 2p-12aFree for annual members.21+byob – bring your own bud. NFS
URL:https://treehousemo.com/event/elevated-yoga-10/
LOCATION:The Treehouse Lounge\, 2142 N Sports Complex Ln\, Suite A\, Nixa\, MO\, 65714\, United States
ATTACH;FMTTYPE=image/jpeg:https://treehousemo.com/wp-content/uploads/2025/08/Elevated-Yoga-3-e1754083103602.jpg
ORGANIZER;CN="The Treehouse Lounge":MAILTO:thetreehousemo@gmail.com
END:VEVENT
END:VCALENDAR