BEGIN:VCALENDAR
VERSION:2.0
PRODID:-//The Treehouse Lounge - ECPv6.15.20//NONSGML v1.0//EN
CALSCALE:GREGORIAN
METHOD:PUBLISH
X-WR-CALNAME:The Treehouse Lounge
X-ORIGINAL-URL:https://treehousemo.com
X-WR-CALDESC:Events for The Treehouse Lounge
REFRESH-INTERVAL;VALUE=DURATION:PT1H
X-Robots-Tag:noindex
X-PUBLISHED-TTL:PT1H
BEGIN:VTIMEZONE
TZID:America/Chicago
BEGIN:DAYLIGHT
TZOFFSETFROM:-0600
TZOFFSETTO:-0500
TZNAME:CDT
DTSTART:20240310T080000
END:DAYLIGHT
BEGIN:STANDARD
TZOFFSETFROM:-0500
TZOFFSETTO:-0600
TZNAME:CST
DTSTART:20241103T070000
END:STANDARD
BEGIN:DAYLIGHT
TZOFFSETFROM:-0600
TZOFFSETTO:-0500
TZNAME:CDT
DTSTART:20250309T080000
END:DAYLIGHT
BEGIN:STANDARD
TZOFFSETFROM:-0500
TZOFFSETTO:-0600
TZNAME:CST
DTSTART:20251102T070000
END:STANDARD
BEGIN:DAYLIGHT
TZOFFSETFROM:-0600
TZOFFSETTO:-0500
TZNAME:CDT
DTSTART:20260308T080000
END:DAYLIGHT
BEGIN:STANDARD
TZOFFSETFROM:-0500
TZOFFSETTO:-0600
TZNAME:CST
DTSTART:20261101T070000
END:STANDARD
END:VTIMEZONE
BEGIN:VEVENT
DTSTART;TZID=America/Chicago:20250817T150000
DTEND;TZID=America/Chicago:20250817T170000
DTSTAMP:20260420T010131
CREATED:20250801T210749Z
LAST-MODIFIED:20250801T210749Z
UID:2619-1755442800-1755450000@treehousemo.com
SUMMARY:Cake Pop & Chill
DESCRIPTION:BUY Tix for INFUSED cake pops class here \n \nBuy Tix for uninfused cake pops class here \n \nWho doesn’t love bite sized candy covered cake on a stick?!?!\nJoin in on a cake pop decorating class! Infused and uninfused options available.\nAll the supplies and cake materials will be provided.\nAdvanced tickets preferred so there’s enough pops to decorate!\nNo experience is necessary. We’ll walk you through every step of helping you make cakes really pop! (10mg ea)\nGet your free pre r0ll at the door and spend your Sunday at Cake Pop & Chill.\n$30 for an all day membership pass\, which means you can come and go as you please until we close that night. (8p)\n$15 for annual members.\n21+\nbyob – bring your own bud. NFS
URL:https://treehousemo.com/event/cake-pop-chill-4/
LOCATION:The Treehouse Lounge\, 2142 N Sports Complex Ln\, Suite A\, Nixa\, MO\, 65714\, United States
ATTACH;FMTTYPE=image/png:https://treehousemo.com/wp-content/uploads/2025/08/cake-pop-3-e1754082458276.png
ORGANIZER;CN="The Treehouse Lounge":MAILTO:thetreehousemo@gmail.com
END:VEVENT
END:VCALENDAR