BEGIN:VCALENDAR
VERSION:2.0
PRODID:-//The Treehouse Lounge - ECPv6.15.20//NONSGML v1.0//EN
CALSCALE:GREGORIAN
METHOD:PUBLISH
X-ORIGINAL-URL:https://treehousemo.com
X-WR-CALDESC:Events for The Treehouse Lounge
REFRESH-INTERVAL;VALUE=DURATION:PT1H
X-Robots-Tag:noindex
X-PUBLISHED-TTL:PT1H
BEGIN:VTIMEZONE
TZID:America/Chicago
BEGIN:DAYLIGHT
TZOFFSETFROM:-0600
TZOFFSETTO:-0500
TZNAME:CDT
DTSTART:20240310T080000
END:DAYLIGHT
BEGIN:STANDARD
TZOFFSETFROM:-0500
TZOFFSETTO:-0600
TZNAME:CST
DTSTART:20241103T070000
END:STANDARD
BEGIN:DAYLIGHT
TZOFFSETFROM:-0600
TZOFFSETTO:-0500
TZNAME:CDT
DTSTART:20250309T080000
END:DAYLIGHT
BEGIN:STANDARD
TZOFFSETFROM:-0500
TZOFFSETTO:-0600
TZNAME:CST
DTSTART:20251102T070000
END:STANDARD
BEGIN:DAYLIGHT
TZOFFSETFROM:-0600
TZOFFSETTO:-0500
TZNAME:CDT
DTSTART:20260308T080000
END:DAYLIGHT
BEGIN:STANDARD
TZOFFSETFROM:-0500
TZOFFSETTO:-0600
TZNAME:CST
DTSTART:20261101T070000
END:STANDARD
END:VTIMEZONE
BEGIN:VEVENT
DTSTART;TZID=America/Chicago:20250824T140000
DTEND;TZID=America/Chicago:20250824T160000
DTSTAMP:20260420T010356
CREATED:20250801T212419Z
LAST-MODIFIED:20250801T212419Z
UID:2636-1756044000-1756051200@treehousemo.com
SUMMARY:Sundae Funday
DESCRIPTION:Come by between 2p & 4p and cool out by loading up on the Sundae Bar!Open d@b bar included too!$15 daily membership passThe Madden 26 tournament starts at 3p (see separate event for those details). Stay to watch or enter the tourney!Free for annual members!21+byob\, bring your own bud. NFS
URL:https://treehousemo.com/event/sundae-funday/
LOCATION:The Treehouse Lounge\, 2142 N Sports Complex Ln\, Suite A\, Nixa\, MO\, 65714\, United States
ATTACH;FMTTYPE=image/png:https://treehousemo.com/wp-content/uploads/2025/08/sundae-funday-1-e1754083451974.png
ORGANIZER;CN="The Treehouse Lounge":MAILTO:thetreehousemo@gmail.com
END:VEVENT
BEGIN:VEVENT
DTSTART;TZID=America/Chicago:20250824T150000
DTEND;TZID=America/Chicago:20250824T180000
DTSTAMP:20260420T010356
CREATED:20250801T212555Z
LAST-MODIFIED:20250801T212755Z
UID:2639-1756047600-1756058400@treehousemo.com
SUMMARY:Madden 26 Tournament
DESCRIPTION:Think you got what it takes to be champ?!? Enter the tourney to find out!$10 to enter the tourney (members too)$15 daily membership passCASH prize to CHAMP and prizes for 2nd place too**Free ice cream sundaes too**21+byob\, bring your own bud. NFS
URL:https://treehousemo.com/event/madden-26-tournament/
LOCATION:The Treehouse Lounge\, 2142 N Sports Complex Ln\, Suite A\, Nixa\, MO\, 65714\, United States
ATTACH;FMTTYPE=image/png:https://treehousemo.com/wp-content/uploads/2025/08/Madden-Tourney-e1754083547495.png
ORGANIZER;CN="The Treehouse Lounge":MAILTO:thetreehousemo@gmail.com
END:VEVENT
BEGIN:VEVENT
DTSTART;TZID=America/Chicago:20250824T180000
DTEND;TZID=America/Chicago:20250824T200000
DTSTAMP:20260420T010356
CREATED:20250801T212646Z
LAST-MODIFIED:20250801T212708Z
UID:2642-1756058400-1756065600@treehousemo.com
SUMMARY:Trivia Night - 420 Themed
DESCRIPTION:more details to come
URL:https://treehousemo.com/event/trivia-night-420-themed/
LOCATION:The Treehouse Lounge\, 2142 N Sports Complex Ln\, Suite A\, Nixa\, MO\, 65714\, United States
END:VEVENT
BEGIN:VEVENT
DTSTART;TZID=America/Chicago:20250824T180000
DTEND;TZID=America/Chicago:20250824T210000
DTSTAMP:20260420T010356
CREATED:20250804T173835Z
LAST-MODIFIED:20250804T173936Z
UID:2661-1756058400-1756069200@treehousemo.com
SUMMARY:Canna Trivia Night
DESCRIPTION:Know It Ale hosts a fun night of canna themed trivia questions at The Treehouse Lounge!Prizes throughout the night and for top 2 teams.Teams of 2-6. Don’t have a team\, we can help you find one and meet some new people!We’ll have clever questions\, and a fun\, competitive vibe for you! \n$15 for daily membership pass \nFree for annual Members \n21+open and complimentary d@b barbyob\, bring your own bud. NFS
URL:https://treehousemo.com/event/canna-trivia-night/
LOCATION:The Treehouse Lounge\, 2142 N Sports Complex Ln\, Suite A\, Nixa\, MO\, 65714\, United States
ATTACH;FMTTYPE=image/png:https://treehousemo.com/wp-content/uploads/2025/08/Untitled-design-2-e1754329107167.png
ORGANIZER;CN="The Treehouse Lounge":MAILTO:thetreehousemo@gmail.com
END:VEVENT
END:VCALENDAR