BEGIN:VCALENDAR
VERSION:2.0
PRODID:-//The Treehouse Lounge - ECPv6.15.20//NONSGML v1.0//EN
CALSCALE:GREGORIAN
METHOD:PUBLISH
X-ORIGINAL-URL:https://treehousemo.com
X-WR-CALDESC:Events for The Treehouse Lounge
REFRESH-INTERVAL;VALUE=DURATION:PT1H
X-Robots-Tag:noindex
X-PUBLISHED-TTL:PT1H
BEGIN:VTIMEZONE
TZID:America/Chicago
BEGIN:DAYLIGHT
TZOFFSETFROM:-0600
TZOFFSETTO:-0500
TZNAME:CDT
DTSTART:20240310T080000
END:DAYLIGHT
BEGIN:STANDARD
TZOFFSETFROM:-0500
TZOFFSETTO:-0600
TZNAME:CST
DTSTART:20241103T070000
END:STANDARD
BEGIN:DAYLIGHT
TZOFFSETFROM:-0600
TZOFFSETTO:-0500
TZNAME:CDT
DTSTART:20250309T080000
END:DAYLIGHT
BEGIN:STANDARD
TZOFFSETFROM:-0500
TZOFFSETTO:-0600
TZNAME:CST
DTSTART:20251102T070000
END:STANDARD
BEGIN:DAYLIGHT
TZOFFSETFROM:-0600
TZOFFSETTO:-0500
TZNAME:CDT
DTSTART:20260308T080000
END:DAYLIGHT
BEGIN:STANDARD
TZOFFSETFROM:-0500
TZOFFSETTO:-0600
TZNAME:CST
DTSTART:20261101T070000
END:STANDARD
END:VTIMEZONE
BEGIN:VEVENT
DTSTART;TZID=America/Chicago:20250904T183000
DTEND;TZID=America/Chicago:20250904T213000
DTSTAMP:20260419T150313
CREATED:20250903T195951Z
LAST-MODIFIED:20250903T195951Z
UID:2681-1757010600-1757021400@treehousemo.com
SUMMARY:Singles Mingle
DESCRIPTION:Calling all singles ready to mingle!\nAhead of our first of its kind canna dating game\, we’re gathering contestants and invite you to the 𝙎𝙄𝙉𝙂𝙇𝙀𝙎 𝙈𝙄𝙉𝙂𝙇𝙀!\nFree daily pass to The Treehouse Lounge if you fill out the form ahead of time (FORM HERE) or at the door! This enters you to a chance to be a contestant at the 𝙃𝙄𝙂𝙃 𝙊𝙉 𝙇𝙊𝙑𝙀: 𝘼 𝘿𝘼𝙏𝙄𝙉𝙂 𝙂𝘼𝙈𝙀 Sept 13th!Doors open at 630p to sesh. then meet the game’s host and learn how the game will work.Open d@b bar and v@pe station!21+ onlybyob\, bring your own bud. NFS\nComplete this “about you” form ahead of the Dating Game on 9/13 hosted by Derek Luna.
URL:https://treehousemo.com/event/singles-mingle/
LOCATION:The Treehouse Lounge\, 2142 N Sports Complex Ln\, Suite A\, Nixa\, MO\, 65714\, United States
ATTACH;FMTTYPE=image/jpeg:https://treehousemo.com/wp-content/uploads/2025/09/538829960_705870599148176_5742270271066473718_n-e1756929581609.jpg
END:VEVENT
END:VCALENDAR