BEGIN:VCALENDAR
VERSION:2.0
PRODID:-//The Treehouse Lounge - ECPv6.15.20//NONSGML v1.0//EN
CALSCALE:GREGORIAN
METHOD:PUBLISH
X-WR-CALNAME:The Treehouse Lounge
X-ORIGINAL-URL:https://treehousemo.com
X-WR-CALDESC:Events for The Treehouse Lounge
REFRESH-INTERVAL;VALUE=DURATION:PT1H
X-Robots-Tag:noindex
X-PUBLISHED-TTL:PT1H
BEGIN:VTIMEZONE
TZID:America/Chicago
BEGIN:DAYLIGHT
TZOFFSETFROM:-0600
TZOFFSETTO:-0500
TZNAME:CDT
DTSTART:20240310T080000
END:DAYLIGHT
BEGIN:STANDARD
TZOFFSETFROM:-0500
TZOFFSETTO:-0600
TZNAME:CST
DTSTART:20241103T070000
END:STANDARD
BEGIN:DAYLIGHT
TZOFFSETFROM:-0600
TZOFFSETTO:-0500
TZNAME:CDT
DTSTART:20250309T080000
END:DAYLIGHT
BEGIN:STANDARD
TZOFFSETFROM:-0500
TZOFFSETTO:-0600
TZNAME:CST
DTSTART:20251102T070000
END:STANDARD
BEGIN:DAYLIGHT
TZOFFSETFROM:-0600
TZOFFSETTO:-0500
TZNAME:CDT
DTSTART:20260308T080000
END:DAYLIGHT
BEGIN:STANDARD
TZOFFSETFROM:-0500
TZOFFSETTO:-0600
TZNAME:CST
DTSTART:20261101T070000
END:STANDARD
END:VTIMEZONE
BEGIN:VEVENT
DTSTART;TZID=America/Chicago:20250912T200000
DTEND;TZID=America/Chicago:20250912T220000
DTSTAMP:20260419T144816
CREATED:20250801T211937Z
LAST-MODIFIED:20250903T201103Z
UID:2631-1757707200-1757714400@treehousemo.com
SUMMARY:Bingo
DESCRIPTION:Spend your Saturday night at the lounge playing bingo\, winning prizes from local shops and restaurants\, and visiting the open d@b bar!It’s a bingo party. Overhead lights off\, black lights on\, music\, and bingo games.A portion of the proceeds to benefit Freedom Grow – an organization that helps cannabis prisoners regain freedom.Party starts at 8p but our doors open at 2p on Saturdays\, so come as early to get a seat!$20 includes your first bingo card. Additional cost for additional cards.Prizes will include different canna themed swag from local brands\, gift cards to local restaurants\, including The Alamo Theaters!21+ alwaysbyob\, bring your own bud. NFS
URL:https://treehousemo.com/event/bingo-2/
LOCATION:The Treehouse Lounge\, 2142 N Sports Complex Ln\, Suite A\, Nixa\, MO\, 65714\, United States
ATTACH;FMTTYPE=image/jpeg:https://treehousemo.com/wp-content/uploads/2025/08/539600593_709053412163228_4067182182722658557_n-e1756930224906.jpg
END:VEVENT
END:VCALENDAR