BEGIN:VCALENDAR
VERSION:2.0
PRODID:-//The Treehouse Lounge - ECPv6.15.20//NONSGML v1.0//EN
CALSCALE:GREGORIAN
METHOD:PUBLISH
X-ORIGINAL-URL:https://treehousemo.com
X-WR-CALDESC:Events for The Treehouse Lounge
REFRESH-INTERVAL;VALUE=DURATION:PT1H
X-Robots-Tag:noindex
X-PUBLISHED-TTL:PT1H
BEGIN:VTIMEZONE
TZID:America/Chicago
BEGIN:DAYLIGHT
TZOFFSETFROM:-0600
TZOFFSETTO:-0500
TZNAME:CDT
DTSTART:20240310T080000
END:DAYLIGHT
BEGIN:STANDARD
TZOFFSETFROM:-0500
TZOFFSETTO:-0600
TZNAME:CST
DTSTART:20241103T070000
END:STANDARD
BEGIN:DAYLIGHT
TZOFFSETFROM:-0600
TZOFFSETTO:-0500
TZNAME:CDT
DTSTART:20250309T080000
END:DAYLIGHT
BEGIN:STANDARD
TZOFFSETFROM:-0500
TZOFFSETTO:-0600
TZNAME:CST
DTSTART:20251102T070000
END:STANDARD
BEGIN:DAYLIGHT
TZOFFSETFROM:-0600
TZOFFSETTO:-0500
TZNAME:CDT
DTSTART:20260308T080000
END:DAYLIGHT
BEGIN:STANDARD
TZOFFSETFROM:-0500
TZOFFSETTO:-0600
TZNAME:CST
DTSTART:20261101T070000
END:STANDARD
END:VTIMEZONE
BEGIN:VEVENT
DTSTART;TZID=America/Chicago:20251016T190000
DTEND;TZID=America/Chicago:20251016T220000
DTSTAMP:20260419T104342
CREATED:20251013T174431Z
LAST-MODIFIED:20251013T174450Z
UID:2727-1760641200-1760652000@treehousemo.com
SUMMARY:Paint a Possessed Doll
DESCRIPTION:Paint a Possessed DollThursday\, October 16th | 7–10 PM | 21+\nGive life (or afterlife) to your very own creepy companion. Choose from a collection of vintage-style dolls—some already whispering with names and backstories—or create your own twisted narrative from scratch.\n-all art materials included (no experience needed)-1 pre-ro|| to spark your creativity-open and complimentary d@b bar and v@pe station-1 blank Death Certificate for your doll’s official haunting\nCome paint\, puff\, and play in the shadows—then take home your one-of-a-kind possessed doll\, ready to terrorize your shelf forever.\nbyob\, bring your own bud. NFS
URL:https://treehousemo.com/event/paint-a-possessed-doll/
LOCATION:The Treehouse Lounge\, 2142 N Sports Complex Ln\, Suite A\, Nixa\, MO\, 65714\, United States
ATTACH;FMTTYPE=image/png:https://treehousemo.com/wp-content/uploads/2025/10/possessed-doll-e1760377461764.png
END:VEVENT
END:VCALENDAR