BEGIN:VCALENDAR
VERSION:2.0
PRODID:-//The Treehouse Lounge - ECPv6.15.20//NONSGML v1.0//EN
CALSCALE:GREGORIAN
METHOD:PUBLISH
X-WR-CALNAME:The Treehouse Lounge
X-ORIGINAL-URL:https://treehousemo.com
X-WR-CALDESC:Events for The Treehouse Lounge
REFRESH-INTERVAL;VALUE=DURATION:PT1H
X-Robots-Tag:noindex
X-PUBLISHED-TTL:PT1H
BEGIN:VTIMEZONE
TZID:America/Chicago
BEGIN:DAYLIGHT
TZOFFSETFROM:-0600
TZOFFSETTO:-0500
TZNAME:CDT
DTSTART:20240310T080000
END:DAYLIGHT
BEGIN:STANDARD
TZOFFSETFROM:-0500
TZOFFSETTO:-0600
TZNAME:CST
DTSTART:20241103T070000
END:STANDARD
BEGIN:DAYLIGHT
TZOFFSETFROM:-0600
TZOFFSETTO:-0500
TZNAME:CDT
DTSTART:20250309T080000
END:DAYLIGHT
BEGIN:STANDARD
TZOFFSETFROM:-0500
TZOFFSETTO:-0600
TZNAME:CST
DTSTART:20251102T070000
END:STANDARD
BEGIN:DAYLIGHT
TZOFFSETFROM:-0600
TZOFFSETTO:-0500
TZNAME:CDT
DTSTART:20260308T080000
END:DAYLIGHT
BEGIN:STANDARD
TZOFFSETFROM:-0500
TZOFFSETTO:-0600
TZNAME:CST
DTSTART:20261101T070000
END:STANDARD
END:VTIMEZONE
BEGIN:VEVENT
DTSTART;TZID=America/Chicago:20251018T220000
DTEND;TZID=America/Chicago:20251019T010000
DTSTAMP:20260419T091913
CREATED:20251013T175326Z
LAST-MODIFIED:20251013T175326Z
UID:2740-1760824800-1760835600@treehousemo.com
SUMMARY:Cannabis Commune
DESCRIPTION:Stay after the Costume Contest for the monthly Commune! \nAfter hours Industry Mixer – Free with Agent IDThis event is for people in the industry who want to connect with others in the industry! Not an industry worker but still want to hang? C’mon by! Only $15 for the daily membership passMusic and D@BS21+As always\, open and complimentary d@b bars and v@pe station.Sponsors:TIMELESSSTAIRWAY CANNABIS
URL:https://treehousemo.com/event/cannabis-commune-4/
LOCATION:The Treehouse Lounge\, 2142 N Sports Complex Ln\, Suite A\, Nixa\, MO\, 65714\, United States
ATTACH;FMTTYPE=image/png:https://treehousemo.com/wp-content/uploads/2024/10/Cannabis-Commune-21-e1760378000718.png
END:VEVENT
BEGIN:VEVENT
DTSTART;TZID=America/Chicago:20251019T150000
DTEND;TZID=America/Chicago:20251019T180000
DTSTAMP:20260419T091913
CREATED:20251013T175132Z
LAST-MODIFIED:20251013T175132Z
UID:2737-1760886000-1760896800@treehousemo.com
SUMMARY:Chili Cook-Off
DESCRIPTION: 2nd Annual Treehouse Chili Cook-Off Sunday\, October 19th\, 2025 | The Treehouse Lounge | 21+\nThink your chili can bring the heat?  Join us for a spicy Sunday for our 2nd annual Chili Cook-Off. Whether you’re a secret family-recipe type or a “throw everything in the pot and hope it slaps” type\, this is your chance to show off your flavor game.\n Compete or Taste:\nEnter your best batch of chili for a shot at the 1st Place Prize \nOr just come hungry and sample the lineup of bowls from fellow chili champions!\nBring your appetite\, bring your buds (both kinds )\, and let’s crown a chili champ!\nbyob\, bring your own bud. NFS
URL:https://treehousemo.com/event/chili-cook-off/
LOCATION:The Treehouse Lounge\, 2142 N Sports Complex Ln\, Suite A\, Nixa\, MO\, 65714\, United States
ATTACH;FMTTYPE=image/png:https://treehousemo.com/wp-content/uploads/2025/10/Chili-cookoff-4-e1760377888978.png
END:VEVENT
BEGIN:VEVENT
DTSTART;TZID=America/Chicago:20251019T150000
DTEND;TZID=America/Chicago:20251019T190000
DTSTAMP:20260419T091914
CREATED:20251013T175503Z
LAST-MODIFIED:20251013T175503Z
UID:2742-1760886000-1760900400@treehousemo.com
SUMMARY:EA Sports Madden '26 Tourney
DESCRIPTION:Think you got what it takes to be champ?!? Enter the tourney to find out!$10 to enter the tourney (members too)$15 daily membership passCASH prize to CHAMP and prizes for 2nd place tooChili Cookoff is running at the same time!!!21+byob\, bring your own bud. NFS
URL:https://treehousemo.com/event/ea-sports-madden-26-tourney/
LOCATION:The Treehouse Lounge\, 2142 N Sports Complex Ln\, Suite A\, Nixa\, MO\, 65714\, United States
ATTACH;FMTTYPE=image/jpeg:https://treehousemo.com/wp-content/uploads/2025/10/557031695_734003466334889_1901096878212641141_n-e1760378095295.jpg
END:VEVENT
END:VCALENDAR