BEGIN:VCALENDAR
VERSION:2.0
PRODID:-//The Treehouse Lounge - ECPv6.15.20//NONSGML v1.0//EN
CALSCALE:GREGORIAN
METHOD:PUBLISH
X-ORIGINAL-URL:https://treehousemo.com
X-WR-CALDESC:Events for The Treehouse Lounge
REFRESH-INTERVAL;VALUE=DURATION:PT1H
X-Robots-Tag:noindex
X-PUBLISHED-TTL:PT1H
BEGIN:VTIMEZONE
TZID:America/Chicago
BEGIN:DAYLIGHT
TZOFFSETFROM:-0600
TZOFFSETTO:-0500
TZNAME:CDT
DTSTART:20240310T080000
END:DAYLIGHT
BEGIN:STANDARD
TZOFFSETFROM:-0500
TZOFFSETTO:-0600
TZNAME:CST
DTSTART:20241103T070000
END:STANDARD
BEGIN:DAYLIGHT
TZOFFSETFROM:-0600
TZOFFSETTO:-0500
TZNAME:CDT
DTSTART:20250309T080000
END:DAYLIGHT
BEGIN:STANDARD
TZOFFSETFROM:-0500
TZOFFSETTO:-0600
TZNAME:CST
DTSTART:20251102T070000
END:STANDARD
BEGIN:DAYLIGHT
TZOFFSETFROM:-0600
TZOFFSETTO:-0500
TZNAME:CDT
DTSTART:20260308T080000
END:DAYLIGHT
BEGIN:STANDARD
TZOFFSETFROM:-0500
TZOFFSETTO:-0600
TZNAME:CST
DTSTART:20261101T070000
END:STANDARD
END:VTIMEZONE
BEGIN:VEVENT
DTSTART;TZID=America/Chicago:20251025T123000
DTEND;TZID=America/Chicago:20251025T140000
DTSTAMP:20260421T113027
CREATED:20251013T180051Z
LAST-MODIFIED:20251013T180051Z
UID:2751-1761395400-1761400800@treehousemo.com
SUMMARY:Cauldron of Calm Yoga Class
DESCRIPTION:~Yoga class but in the clouds~The Cauldron of Calm: A Zen Yoga & Sound Bath Healing ExperienceStep into a sanctuary of serenity for an afternoon of deep relaxation and inner peace.Let the vibrations of healing sounds guide you\, and enjoy a mindful\, cannabis-friendly environment as you recharge your body and soul.Arrive at 12:30p\, to put your mat down\, visit the open and complimentary d@b bar and/or v@pe station\, light one up\, and burn one down. Class begins at 1p. It’s a perfect way to spend a Saturday afternoon as our teacher\, Emily Blink\, guides an all levels class!Emily ends the class in a sound bath that sends you straight to space or another dimension!!!Bring your own mat.$15 at the door for daily membership pass.(Purchased at the door.)Saturday hours are from 2p-12aFree for annual members.21+byob – bring your own bud. NFS
URL:https://treehousemo.com/event/cauldron-of-calm-yoga-class/
LOCATION:The Treehouse Lounge\, 2142 N Sports Complex Ln\, Suite A\, Nixa\, MO\, 65714\, United States
ATTACH;FMTTYPE=image/png:https://treehousemo.com/wp-content/uploads/2024/10/Purple-and-Yellow-Vintage-Retro-Fright-Night-Halloween-Party-Instagram-Post-e1760378444350.png
END:VEVENT
END:VCALENDAR