BEGIN:VCALENDAR
VERSION:2.0
PRODID:-//The Treehouse Lounge - ECPv6.15.20//NONSGML v1.0//EN
CALSCALE:GREGORIAN
METHOD:PUBLISH
X-WR-CALNAME:The Treehouse Lounge
X-ORIGINAL-URL:https://treehousemo.com
X-WR-CALDESC:Events for The Treehouse Lounge
REFRESH-INTERVAL;VALUE=DURATION:PT1H
X-Robots-Tag:noindex
X-PUBLISHED-TTL:PT1H
BEGIN:VTIMEZONE
TZID:America/Chicago
BEGIN:DAYLIGHT
TZOFFSETFROM:-0600
TZOFFSETTO:-0500
TZNAME:CDT
DTSTART:20240310T080000
END:DAYLIGHT
BEGIN:STANDARD
TZOFFSETFROM:-0500
TZOFFSETTO:-0600
TZNAME:CST
DTSTART:20241103T070000
END:STANDARD
BEGIN:DAYLIGHT
TZOFFSETFROM:-0600
TZOFFSETTO:-0500
TZNAME:CDT
DTSTART:20250309T080000
END:DAYLIGHT
BEGIN:STANDARD
TZOFFSETFROM:-0500
TZOFFSETTO:-0600
TZNAME:CST
DTSTART:20251102T070000
END:STANDARD
BEGIN:DAYLIGHT
TZOFFSETFROM:-0600
TZOFFSETTO:-0500
TZNAME:CDT
DTSTART:20260308T080000
END:DAYLIGHT
BEGIN:STANDARD
TZOFFSETFROM:-0500
TZOFFSETTO:-0600
TZNAME:CST
DTSTART:20261101T070000
END:STANDARD
END:VTIMEZONE
BEGIN:VEVENT
DTSTART;TZID=America/Chicago:20251028T190000
DTEND;TZID=America/Chicago:20251028T230000
DTSTAMP:20260419T080057
CREATED:20251013T180813Z
LAST-MODIFIED:20251013T180813Z
UID:2755-1761678000-1761692400@treehousemo.com
SUMMARY:Horror Movie On The Lawn
DESCRIPTION:Horror Movie on the LawnHosted by 2 Chicks and a Head Shop and The Treehouse Lounge.Check in inside The Treehouse Lounge for your $15 daily membership pass. This includes all day and night access to all the lounge amenities INCLUDING the free screening of the movie! MOVIE TO BE ANNOUNCED ONCE RIGHTS ARE ACQUIRED! As always\, the d@b bar and v@pe station are open and complimentary.Check out the connecting bar for social drinks\, infused non-alcoholic mocktails.Bring your own blankets and chairs. OR upgrade to the VIP seating for $10. That’s comfy inflatable pools filled with pillows and blankets. Limited VIP seating areas.21+Byob\, bring your own bud. NFS
URL:https://treehousemo.com/event/horror-movie-on-the-lawn/
LOCATION:The Treehouse Lounge\, 2142 N Sports Complex Ln\, Suite A\, Nixa\, MO\, 65714\, United States
ATTACH;FMTTYPE=image/png:https://treehousemo.com/wp-content/uploads/2024/10/movie-on-the-lawn-7-e1760378859831.png
END:VEVENT
END:VCALENDAR