BEGIN:VCALENDAR
VERSION:2.0
PRODID:-//The Treehouse Lounge - ECPv6.15.20//NONSGML v1.0//EN
CALSCALE:GREGORIAN
METHOD:PUBLISH
X-WR-CALNAME:The Treehouse Lounge
X-ORIGINAL-URL:https://treehousemo.com
X-WR-CALDESC:Events for The Treehouse Lounge
REFRESH-INTERVAL;VALUE=DURATION:PT1H
X-Robots-Tag:noindex
X-PUBLISHED-TTL:PT1H
BEGIN:VTIMEZONE
TZID:America/Chicago
BEGIN:DAYLIGHT
TZOFFSETFROM:-0600
TZOFFSETTO:-0500
TZNAME:CDT
DTSTART:20240310T080000
END:DAYLIGHT
BEGIN:STANDARD
TZOFFSETFROM:-0500
TZOFFSETTO:-0600
TZNAME:CST
DTSTART:20241103T070000
END:STANDARD
BEGIN:DAYLIGHT
TZOFFSETFROM:-0600
TZOFFSETTO:-0500
TZNAME:CDT
DTSTART:20250309T080000
END:DAYLIGHT
BEGIN:STANDARD
TZOFFSETFROM:-0500
TZOFFSETTO:-0600
TZNAME:CST
DTSTART:20251102T070000
END:STANDARD
BEGIN:DAYLIGHT
TZOFFSETFROM:-0600
TZOFFSETTO:-0500
TZNAME:CDT
DTSTART:20260308T080000
END:DAYLIGHT
BEGIN:STANDARD
TZOFFSETFROM:-0500
TZOFFSETTO:-0600
TZNAME:CST
DTSTART:20261101T070000
END:STANDARD
END:VTIMEZONE
BEGIN:VEVENT
DTSTART;TZID=America/Chicago:20251129T220000
DTEND;TZID=America/Chicago:20251130T010000
DTSTAMP:20260421T113845
CREATED:20251108T000633Z
LAST-MODIFIED:20251108T000633Z
UID:2856-1764453600-1764464400@treehousemo.com
SUMMARY:Cannabis Commune - Industry Only Mixer
DESCRIPTION:After hours Industry Mixer – Free with Agent ID\nThis event is for people in the industry who want to connect with others in the industry! Not an industry worker but still want to hang? C’mon by! Only $15 for the daily membership pass\nMusic and D@BS\n21+\nAs always\, open and complimentary d@b bars and v@pe station.\nSponsors:\nROVE
URL:https://treehousemo.com/event/cannabis-commune-industry-only-mixer-5/
LOCATION:The Treehouse Lounge\, 2142 N Sports Complex Ln\, Suite A\, Nixa\, MO\, 65714\, United States
ATTACH;FMTTYPE=image/png:https://treehousemo.com/wp-content/uploads/2025/11/Cannabis-Commune-e1762560387911.png
END:VEVENT
BEGIN:VEVENT
DTSTART;TZID=America/Chicago:20251130T120000
DTEND;TZID=America/Chicago:20251130T170000
DTSTAMP:20260421T113845
CREATED:20251107T213138Z
LAST-MODIFIED:20251107T213138Z
UID:2847-1764504000-1764522000@treehousemo.com
SUMMARY:Monthly Magic The Gathering Tournament
DESCRIPTION:more details to come \n21+ only event \nbyob\, bring your own bud. NFS
URL:https://treehousemo.com/event/monthly-magic-the-gathering-tournament-3/
END:VEVENT
BEGIN:VEVENT
DTSTART;TZID=America/Chicago:20251130T140000
DTEND;TZID=America/Chicago:20251130T160000
DTSTAMP:20260421T113845
CREATED:20251107T213236Z
LAST-MODIFIED:20251107T213236Z
UID:2849-1764511200-1764518400@treehousemo.com
SUMMARY:Cookie Decorating Class
DESCRIPTION:Hosted by Hazy Lanes \nmore details to come \n21+ only \nbyob\, bring your own bud. NFS
URL:https://treehousemo.com/event/cookie-decorating-class/
END:VEVENT
END:VCALENDAR