BEGIN:VCALENDAR
VERSION:2.0
PRODID:-//The Treehouse Lounge - ECPv6.15.20//NONSGML v1.0//EN
CALSCALE:GREGORIAN
METHOD:PUBLISH
X-WR-CALNAME:The Treehouse Lounge
X-ORIGINAL-URL:https://treehousemo.com
X-WR-CALDESC:Events for The Treehouse Lounge
REFRESH-INTERVAL;VALUE=DURATION:PT1H
X-Robots-Tag:noindex
X-PUBLISHED-TTL:PT1H
BEGIN:VTIMEZONE
TZID:America/Chicago
BEGIN:DAYLIGHT
TZOFFSETFROM:-0600
TZOFFSETTO:-0500
TZNAME:CDT
DTSTART:20240310T080000
END:DAYLIGHT
BEGIN:STANDARD
TZOFFSETFROM:-0500
TZOFFSETTO:-0600
TZNAME:CST
DTSTART:20241103T070000
END:STANDARD
BEGIN:DAYLIGHT
TZOFFSETFROM:-0600
TZOFFSETTO:-0500
TZNAME:CDT
DTSTART:20250309T080000
END:DAYLIGHT
BEGIN:STANDARD
TZOFFSETFROM:-0500
TZOFFSETTO:-0600
TZNAME:CST
DTSTART:20251102T070000
END:STANDARD
BEGIN:DAYLIGHT
TZOFFSETFROM:-0600
TZOFFSETTO:-0500
TZNAME:CDT
DTSTART:20260308T080000
END:DAYLIGHT
BEGIN:STANDARD
TZOFFSETFROM:-0500
TZOFFSETTO:-0600
TZNAME:CST
DTSTART:20261101T070000
END:STANDARD
END:VTIMEZONE
BEGIN:VEVENT
DTSTART;TZID=America/Chicago:20251219T200000
DTEND;TZID=America/Chicago:20251219T220000
DTSTAMP:20260419T102313
CREATED:20251202T171024Z
LAST-MODIFIED:20251202T171024Z
UID:2925-1766174400-1766181600@treehousemo.com
SUMMARY:Holiday Bingo
DESCRIPTION:Spend your Saturday night at the lounge playing Holiday bing0\, winning wrapped prizes from under the tree to local shops and restaurants\, and visiting the open d@b bar!It’s a bing0 party. Overhead lights off\, black lights on\, music\, and bing0 games.A portion of the proceeds to benefit Last Prisoner Project – an organization that helps cannabis prisoners regain freedom.Party starts at 8p but our doors open at 2p on Saturdays\, so come as early to get a seat!$20 includes your first bing0 card. Additional cost for additional cards.Prizes will include different canna themed swag from local brands\, gift cards to local restaurants\, including The Alamo Theaters!Grand Prize tba!!!21+ alwaysbyob\, bring your own bud. NFS
URL:https://treehousemo.com/event/holiday-bingo/
LOCATION:The Treehouse Lounge\, 2142 N Sports Complex Ln\, Suite A\, Nixa\, MO\, 65714\, United States
ATTACH;FMTTYPE=image/png:https://treehousemo.com/wp-content/uploads/2025/12/bingo-12-e1764695371139.png
END:VEVENT
END:VCALENDAR