BEGIN:VCALENDAR
VERSION:2.0
PRODID:-//The Treehouse Lounge - ECPv6.15.20//NONSGML v1.0//EN
CALSCALE:GREGORIAN
METHOD:PUBLISH
X-WR-CALNAME:The Treehouse Lounge
X-ORIGINAL-URL:https://treehousemo.com
X-WR-CALDESC:Events for The Treehouse Lounge
REFRESH-INTERVAL;VALUE=DURATION:PT1H
X-Robots-Tag:noindex
X-PUBLISHED-TTL:PT1H
BEGIN:VTIMEZONE
TZID:America/Chicago
BEGIN:DAYLIGHT
TZOFFSETFROM:-0600
TZOFFSETTO:-0500
TZNAME:CDT
DTSTART:20230312T080000
END:DAYLIGHT
BEGIN:STANDARD
TZOFFSETFROM:-0500
TZOFFSETTO:-0600
TZNAME:CST
DTSTART:20231105T070000
END:STANDARD
BEGIN:DAYLIGHT
TZOFFSETFROM:-0600
TZOFFSETTO:-0500
TZNAME:CDT
DTSTART:20240310T080000
END:DAYLIGHT
BEGIN:STANDARD
TZOFFSETFROM:-0500
TZOFFSETTO:-0600
TZNAME:CST
DTSTART:20241103T070000
END:STANDARD
BEGIN:DAYLIGHT
TZOFFSETFROM:-0600
TZOFFSETTO:-0500
TZNAME:CDT
DTSTART:20250309T080000
END:DAYLIGHT
BEGIN:STANDARD
TZOFFSETFROM:-0500
TZOFFSETTO:-0600
TZNAME:CST
DTSTART:20251102T070000
END:STANDARD
END:VTIMEZONE
BEGIN:VTIMEZONE
TZID:UTC
BEGIN:STANDARD
TZOFFSETFROM:+0000
TZOFFSETTO:+0000
TZNAME:UTC
DTSTART:20230101T000000
END:STANDARD
END:VTIMEZONE
BEGIN:VEVENT
DTSTART;TZID=America/Chicago:20241119T183000
DTEND;TZID=America/Chicago:20241119T200000
DTSTAMP:20260422T173718
CREATED:20241104T161807Z
LAST-MODIFIED:20241104T161807Z
UID:1753-1732041000-1732046400@treehousemo.com
SUMMARY:Glow Yoga
DESCRIPTION:Doors open at 630p to get settled in\, apply the glow tattoos and body paint\, smoke\, let those edibles kick in\, and get ready to have fun doing yoga.Every month we’ll have a DIFFERENT playlist! It’s HIGH energy\, but not intense. We’ll turn on the black lights\, turn up the music\, and turn tf out!Bring your friends\, your own mat\, and your own bud.21+Open d@b bar available.$15 at the door for the class/daily membership pass.Free for annual members.
URL:https://treehousemo.com/event/glow-yoga-2/
LOCATION:The Treehouse Lounge\, 2142 N Sports Complex Ln\, Suite A\, Nixa\, MO\, 65714\, United States
ATTACH;FMTTYPE=image/png:https://treehousemo.com/wp-content/uploads/2024/11/YOGA-Glow-Party-Flyer-6.png
ORGANIZER;CN="The Treehouse Lounge":MAILTO:thetreehousemo@gmail.com
END:VEVENT
BEGIN:VEVENT
DTSTART;TZID=America/Chicago:20241118T190000
DTEND;TZID=America/Chicago:20241118T230000
DTSTAMP:20260422T173718
CREATED:20241024T030651Z
LAST-MODIFIED:20241101T162519Z
UID:1710-1731956400-1731970800@treehousemo.com
SUMMARY:The Jaine Sesh - Southwest MO Edition
DESCRIPTION:  \n\nWe want to meet more of our SWMO canna-ladies!\nJoin us for an evening of connection\, consumption\, and communication! We’re still ironing out the details but we’re thinking a food truck…a panel of dope canna-ladies and more.\nWhen: Monday\, November 18th\, 2024Where: @thetreehousemo in Nixa\, MOTime: 7 pm – 11 pmMembers: Free\, Non-members: $25 (limited space)\nDoes your business want to be a part of the action? We’re currently looking for sponsors too! Email wearejaine@gmail.com for more information on claiming your sponsorship spot.
URL:https://treehousemo.com/event/the-jaine-sesh-southwest-mo-edition/
LOCATION:The Treehouse Lounge\, 2142 N Sports Complex Ln\, Suite A\, Nixa\, MO\, 65714\, United States
ATTACH;FMTTYPE=image/jpeg:https://treehousemo.com/wp-content/uploads/2024/10/jaine-1.jpg
ORGANIZER;CN="The Treehouse Lounge":MAILTO:thetreehousemo@gmail.com
END:VEVENT
BEGIN:VEVENT
DTSTART;TZID=America/Chicago:20241117T140000
DTEND;TZID=America/Chicago:20241117T170000
DTSTAMP:20260422T173718
CREATED:20241104T161053Z
LAST-MODIFIED:20241104T161053Z
UID:1750-1731852000-1731862800@treehousemo.com
SUMMARY:BURN & BURN
DESCRIPTION:Join us for another Burn & Burn – a woodburning workshop taught by Kirri Lynn Designs\, a local Nixa artist.The base design is demonstrated\, you burn it into the wood and then you can add whatever you like to make it your own!All tools and materials provided. No experience necessary.Advance tickets are suggested\, so enough materials are prepared.$35 for the event and includes a whole day’s pass to the lounge.$20 for annual members.21+ and\, as always\, BYOC – bring your own can. na. bis.Open d@b bar available.
URL:https://treehousemo.com/event/burn-burn/
LOCATION:The Treehouse Lounge\, 2142 N Sports Complex Ln\, Suite A\, Nixa\, MO\, 65714\, United States
ATTACH;FMTTYPE=image/png:https://treehousemo.com/wp-content/uploads/2024/11/Wood-burning-5.png
ORGANIZER;CN="The Treehouse Lounge":MAILTO:thetreehousemo@gmail.com
END:VEVENT
BEGIN:VEVENT
DTSTART;TZID=America/Chicago:20241116T160000
DTEND;TZID=America/Chicago:20241116T200000
DTSTAMP:20260422T173718
CREATED:20241101T230431Z
LAST-MODIFIED:20241101T231934Z
UID:1745-1731772800-1731787200@treehousemo.com
SUMMARY:Squash\, D@b & Dip
DESCRIPTION:Squash\, D@b & Dip – but not in that order….\nEveryone loves a good dip during the holidays! What’s your signature dip? A rotel? Maybe spinach artichoke? How about a buffalo chicken? LET’S SEE IF YOURS REIGNS SUPREME!!\nBring your best dip (and chips or whatever gets dipped in it) and win prizes! Dip prizes awarded at 6p. \n**$5 off daily membership pass if you bring a dip to enter into the contest.**\nIn the meanwhile\, bring your best flower (will require at least a 1/4) to press in either one of our two NugSmashers and let’s see that sweet nectar flow!\nWe’ll have judges on hand to award the best SQUASH!\nSquash prizes awarded before 8p.\n21+\nboyc – bring your own can. na. bis
URL:https://treehousemo.com/event/squash-db-dip/
LOCATION:The Treehouse Lounge\, 2142 N Sports Complex Ln\, Suite A\, Nixa\, MO\, 65714\, United States
ATTACH;FMTTYPE=image/png:https://treehousemo.com/wp-content/uploads/2024/11/Green-Bold-Food-Promotion-Instagram-Post.png
ORGANIZER;CN="The Treehouse Lounge":MAILTO:thetreehousemo@gmail.com
END:VEVENT
BEGIN:VEVENT
DTSTART;TZID=America/Chicago:20241114T190000
DTEND;TZID=America/Chicago:20241114T220000
DTSTAMP:20260422T173718
CREATED:20241101T203326Z
LAST-MODIFIED:20241101T203326Z
UID:1739-1731610800-1731621600@treehousemo.com
SUMMARY:Paint & Pass Danksgiving Edition
DESCRIPTION:This month’s Paint & Pass is Danksgiving themed!!!\n*The actual project will be announced soon.*\n$15 for the daily membership pass and then you decide which project you want to do! ArtZone usually brings a few choices of projects to choose! Projects start at $15 and are purchased separately and directly from ArtZone\nOpen d@b bar.\nBYOC – bring your own cannabis\n21+
URL:https://treehousemo.com/event/paint-pass-danksgiving-edition/
LOCATION:The Treehouse Lounge\, 2142 N Sports Complex Ln\, Suite A\, Nixa\, MO\, 65714\, United States
ATTACH;FMTTYPE=image/png:https://treehousemo.com/wp-content/uploads/2024/11/Turkey-Paint-and-Pass.png
ORGANIZER;CN="The Treehouse Lounge":MAILTO:thetreehousemo@gmail.com
END:VEVENT
BEGIN:VEVENT
DTSTART;TZID=America/Chicago:20241113T200000
DTEND;TZID=America/Chicago:20241113T230000
DTSTAMP:20260422T173718
CREATED:20241101T194534Z
LAST-MODIFIED:20241101T194534Z
UID:1736-1731528000-1731538800@treehousemo.com
SUMMARY:Grow & Tell
DESCRIPTION:This event is intended so that growers and folks who are interested in growing can gather to swap tips\, tricks\, and more!NO SALES ALLOWED\, but clones and genetic swapping is encouraged.21+$15 for the daily membership pass.Free for annual members.Open d@b bar.
URL:https://treehousemo.com/event/grow-tell/
LOCATION:The Treehouse Lounge\, 2142 N Sports Complex Ln\, Suite A\, Nixa\, MO\, 65714\, United States
ATTACH;FMTTYPE=image/jpeg:https://treehousemo.com/wp-content/uploads/2024/11/Grow-Tell-7.jpg
ORGANIZER;CN="The Treehouse Lounge":MAILTO:thetreehousemo@gmail.com
END:VEVENT
BEGIN:VEVENT
DTSTART;TZID=America/Chicago:20241111T190000
DTEND;TZID=America/Chicago:20241111T230000
DTSTAMP:20260422T173718
CREATED:20241101T192304Z
LAST-MODIFIED:20241101T192304Z
UID:1733-1731351600-1731366000@treehousemo.com
SUMMARY:Veterans Appreciation Night
DESCRIPTION:The Treehouse Lounge is veteran owned and supports our veteran community! With respect\, honor\, and gratitude we’d like to extend a FREE daily pass on 11/11 to all veterans.\nThere’s always a 20% off discount to veterans on any other days.\nCome share in the growing community of those who once served and finding local camaraderie right here at The Treehouse Lounge.\nOpen d@b bar.\nNo sales allowed\, so byoc – bring your own cann@bis.\n21+
URL:https://treehousemo.com/event/veterans-appreciation-night/
LOCATION:The Treehouse Lounge\, 2142 N Sports Complex Ln\, Suite A\, Nixa\, MO\, 65714\, United States
ATTACH;FMTTYPE=image/png:https://treehousemo.com/wp-content/uploads/2024/11/Veterans-Day-Gratitude-with-Motivation-Quote-Instagram-Post.png
ORGANIZER;CN="The Treehouse Lounge":MAILTO:thetreehousemo@gmail.com
END:VEVENT
BEGIN:VEVENT
DTSTART;TZID=America/Chicago:20241109T200000
DTEND;TZID=America/Chicago:20241109T230000
DTSTAMP:20260422T173718
CREATED:20241101T184245Z
LAST-MODIFIED:20241101T184245Z
UID:1727-1731182400-1731193200@treehousemo.com
SUMMARY:Reefer & Records
DESCRIPTION:Come down for a chill night of listening to music! Put your favorite vinyls on the record player! Bring your favorite albums or put on the ones we have here!\nPlus\, play the games we all love. We have plenty of tabletop board games here or bring your feel free to bring your own.\nOpen d@b bar. \n$15 daily membership pass\nFree for annual members\n21+
URL:https://treehousemo.com/event/reefer-records/
LOCATION:The Treehouse Lounge\, 2142 N Sports Complex Ln\, Suite A\, Nixa\, MO\, 65714\, United States
ATTACH;FMTTYPE=image/jpeg:https://treehousemo.com/wp-content/uploads/2024/11/Reefer-Records-1.jpg
ORGANIZER;CN="The Treehouse Lounge":MAILTO:thetreehousemo@gmail.com
END:VEVENT
BEGIN:VEVENT
DTSTART;TZID=America/Chicago:20241108T200000
DTEND;TZID=America/Chicago:20241108T230000
DTSTAMP:20260422T173718
CREATED:20241101T162412Z
LAST-MODIFIED:20241101T162412Z
UID:1723-1731096000-1731106800@treehousemo.com
SUMMARY:Music Bingo
DESCRIPTION:Music Bingo nights get turnt!Prizes for winners! You’ve got to know the name of a song after only hearing a 3 second clip and mark your bingo card. Come down to The Treehouse Lounge\, listen to great music and chill with great people. Take a few smoke breaks with visits to the open d@b bar.2 Chicks & a Head Shop hosts and provides everything you need.$15 for the daily membership pass\, at the doorFree for annual members.First bingo card included. Additional cards available.21+
URL:https://treehousemo.com/event/music-bingo/
LOCATION:The Treehouse Lounge\, 2142 N Sports Complex Ln\, Suite A\, Nixa\, MO\, 65714\, United States
ATTACH;FMTTYPE=image/png:https://treehousemo.com/wp-content/uploads/2024/11/music-bingo-6.png
ORGANIZER;CN="The Treehouse Lounge":MAILTO:thetreehousemo@gmail.com
END:VEVENT
BEGIN:VEVENT
DTSTART;TZID=America/Chicago:20241102T190000
DTEND;TZID=America/Chicago:20241102T233000
DTSTAMP:20260422T173718
CREATED:20241101T161727Z
LAST-MODIFIED:20241101T161844Z
UID:1717-1730574000-1730590200@treehousemo.com
SUMMARY:Great Daeg Halloween Tour
DESCRIPTION:  \nConcert Halloween Event with Daeg Faerch“Young Mike Myers”BankBoi Money & ATM21+$20 presale | $25 at the door | $50 meet&greet (via Stubwire)
URL:https://treehousemo.com/event/1717/
LOCATION:The Treehouse Lounge\, 2142 N Sports Complex Ln\, Suite A\, Nixa\, MO\, 65714\, United States
ATTACH;FMTTYPE=image/jpeg:https://treehousemo.com/wp-content/uploads/2024/11/daeg.jpg
ORGANIZER;CN="The Treehouse Lounge":MAILTO:thetreehousemo@gmail.com
END:VEVENT
BEGIN:VEVENT
DTSTART;TZID=America/Chicago:20241101T190000
DTEND;TZID=America/Chicago:20241101T230000
DTSTAMP:20260422T173718
CREATED:20241101T161437Z
LAST-MODIFIED:20241101T161925Z
UID:1714-1730487600-1730502000@treehousemo.com
SUMMARY:Bricks & B!unts
DESCRIPTION:  \nOne of the crowd favorites – a chill night of building Lego Bricks. We’ll have some UV bricks to add so they glow in the black lights!\nBring your own sets or we’ll have a few to purchase here too. We also have tons of bricks to go through and build your own thing!\n$15 for the daily membership\, at the door\nFree for annual members.\nOpen d@b bar\n21+
URL:https://treehousemo.com/event/bricks-bunts/
LOCATION:The Treehouse Lounge\, 2142 N Sports Complex Ln\, Suite A\, Nixa\, MO\, 65714\, United States
ATTACH;FMTTYPE=image/png:https://treehousemo.com/wp-content/uploads/2024/11/Bricks-Blunts-Flyer-5.png
ORGANIZER;CN="The Treehouse Lounge":MAILTO:thetreehousemo@gmail.com
END:VEVENT
BEGIN:VEVENT
DTSTART;TZID=America/Chicago:20241029T193000
DTEND;TZID=America/Chicago:20241029T210000
DTSTAMP:20260422T173718
CREATED:20241024T030231Z
LAST-MODIFIED:20241024T030307Z
UID:1707-1730230200-1730235600@treehousemo.com
SUMMARY:Glow Yoga
DESCRIPTION:Doors open at 730p to get settled in\, apply the glow tattoos and body paint\, smoke\, let those edibles kick in\, and get ready to have fun doing yoga.Every month we’ll have a DIFFERENT playlist! It’s HIGH energy\, but not intense. We’ll turn on the black lights\, turn up the music\, and turn tf out!Bring your friends\, your own mat\, and your own bud.21+Open d@b bar available.$15 at the door for the class/daily membership pass.Free for annual members.
URL:https://treehousemo.com/event/glow-yoga/
LOCATION:The Treehouse Lounge\, 2142 N Sports Complex Ln\, Suite A\, Nixa\, MO\, 65714\, United States
ATTACH;FMTTYPE=image/jpeg:https://treehousemo.com/wp-content/uploads/2024/10/glow.jpg
ORGANIZER;CN="The Treehouse Lounge":MAILTO:thetreehousemo@gmail.com
END:VEVENT
BEGIN:VEVENT
DTSTART;TZID=America/Chicago:20241028T193000
DTEND;TZID=America/Chicago:20241028T220000
DTSTAMP:20260422T173718
CREATED:20241024T030102Z
LAST-MODIFIED:20241024T030102Z
UID:1704-1730143800-1730152800@treehousemo.com
SUMMARY:Movie on the Lawn - Nightmare On Elm Street
DESCRIPTION:The Treehouse Lounge along with 2 Chicks and a Head Shop present:Movie on the Lawn – Nightmare on Elm Street\nThe movie is free with your daily membership pass of $15 to The Treehouse Lounge. No cost for annual members.Bring your own blankets/chairs. VIP upgrade available for $10.VIP includes inflatable pools filled with comfy blankets and pillows set up in the front row!Seating begins at 7:30p and movie starts at 8p.\nThe regular snacks/munchies and drinks inside The Treehouse Lounge will also be available. Open d@b bar inside!*Outside food always allowed.*
URL:https://treehousemo.com/event/movie-on-the-lawn-nightmare-on-elm-street/
LOCATION:The Treehouse Lounge\, 2142 N Sports Complex Ln\, Suite A\, Nixa\, MO\, 65714\, United States
ATTACH;FMTTYPE=image/jpeg:https://treehousemo.com/wp-content/uploads/2024/10/movie.jpg
ORGANIZER;CN="The Treehouse Lounge":MAILTO:thetreehousemo@gmail.com
END:VEVENT
BEGIN:VEVENT
DTSTART;TZID=America/Chicago:20241026T210000
DTEND;TZID=America/Chicago:20241026T230000
DTSTAMP:20260422T173718
CREATED:20241024T025604Z
LAST-MODIFIED:20241024T025604Z
UID:1698-1729976400-1729983600@treehousemo.com
SUMMARY:Kara-toke
DESCRIPTION:Blaze it up and belt it out!Roll up to The Treehouse Lounge for a “Kara-toke” night full of all the hits. $15 for a full day’s membership pass. Come and go as you please all day\, but be sure to be back before your turn at the mic!Regular Saturday hours are 2p-12aFree for annual members21+
URL:https://treehousemo.com/event/kara-toke/
LOCATION:The Treehouse Lounge\, 2142 N Sports Complex Ln\, Suite A\, Nixa\, MO\, 65714\, United States
ATTACH;FMTTYPE=image/jpeg:https://treehousemo.com/wp-content/uploads/2024/10/karatoke.jpg
ORGANIZER;CN="The Treehouse Lounge":MAILTO:thetreehousemo@gmail.com
END:VEVENT
BEGIN:VEVENT
DTSTART;TZID=America/Chicago:20241026T140000
DTEND;TZID=America/Chicago:20241026T190000
DTSTAMP:20260422T173718
CREATED:20241024T025843Z
LAST-MODIFIED:20241024T025843Z
UID:1701-1729951200-1729969200@treehousemo.com
SUMMARY:Dank & Dragons (3rd of 3Month Campaign)
DESCRIPTION:  \n \nOzark Dice & Destiny invites you to join in the adventure & excitement of D&D in our new club: Dank & Dragons! This is the 3rd and final of the 3 month campaign.21+ only and event fees includes membership and open D@b Bar!The last Saturdays of August\, September\, and October\, you can learn about the game we love so much\, join in a unique and custom 3 month campaign\, and make new friends in your local gaming community! August 31st\, September 28th and October 26th\, each month is from 2p-7p.No experience or equipment necessary! We’ll teach you everything you need to know and have all the gear you need! Just bring your creativity and a readiness to make friends!Already playing in a campaign? Bring the whole gang and join us for discussion\, dungeon master Q&A\, research\, and camaraderie! There’s room at the table for everyone!$50 per month – Dank & Dragons 3 Month Adventure member (O.D.D. Dungeon Master + Dab Bar included)$20 per month – Dank & Dragons Community member (Dab Bar included)
URL:https://treehousemo.com/event/dank-dragons-3rd-of-3month-campaign/
LOCATION:The Treehouse Lounge\, 2142 N Sports Complex Ln\, Suite A\, Nixa\, MO\, 65714\, United States
ATTACH;FMTTYPE=image/jpeg:https://treehousemo.com/wp-content/uploads/2024/10/dank.jpg
ORGANIZER;CN="The Treehouse Lounge":MAILTO:thetreehousemo@gmail.com
END:VEVENT
BEGIN:VEVENT
DTSTART;TZID=America/Chicago:20241026T103000
DTEND;TZID=America/Chicago:20241026T120000
DTSTAMP:20260422T173718
CREATED:20241024T025157Z
LAST-MODIFIED:20241024T025346Z
UID:1695-1729938600-1729944000@treehousemo.com
SUMMARY:Elevated Yoga Halloween Inspired
DESCRIPTION:Get witchy us and enjoy a eerily enjoyable flow guided by Adrienne Parnell. Arrive at 10:30 to put your mat down\, visit the open d@b bar\, light one up\, and/or pour yourself a cup of tea. Infusing option available. It’s a perfect way to start the weekend.All levels welcome!Bring your own mat.$15 for the daily membership passFree for annual members21+
URL:https://treehousemo.com/event/elevated-yoga-halloween-inspired/
LOCATION:The Treehouse Lounge\, 2142 N Sports Complex Ln\, Suite A\, Nixa\, MO\, 65714\, United States
ATTACH;FMTTYPE=image/jpeg:https://treehousemo.com/wp-content/uploads/2024/10/withc.jpg
ORGANIZER;CN="The Treehouse Lounge":MAILTO:thetreehousemo@gmail.com
END:VEVENT
BEGIN:VEVENT
DTSTART;TZID=America/Chicago:20241025T190000
DTEND;TZID=America/Chicago:20241025T235900
DTSTAMP:20260422T173718
CREATED:20241024T024850Z
LAST-MODIFIED:20241024T025014Z
UID:1691-1729882800-1729900740@treehousemo.com
SUMMARY:Halloween Costume Contest & Party
DESCRIPTION:Join us at The Treehouse Lounge as we\, and 3Fifteen Primo Branson\, celebrate Halloween in high spirits! Party with us with a backdrop of eerie decor and hauntingly good vibes! Come dressed to impress in your costume for a chance to win exciting prizes! Prizes awarded at 9p for Best Overall and Most Creative!Justin Larkin takes the stage at 9:30p to keep the party going into the night performing live music.Open d@b bar. 21+byob – bring your own bud$15 for a daily membership passFree for annual members.
URL:https://treehousemo.com/event/halloween-costume-contest-party/
LOCATION:The Treehouse Lounge\, 2142 N Sports Complex Ln\, Suite A\, Nixa\, MO\, 65714\, United States
ATTACH;FMTTYPE=image/jpeg:https://treehousemo.com/wp-content/uploads/2024/10/315.jpg
ORGANIZER;CN="The Treehouse Lounge":MAILTO:thetreehousemo@gmail.com
END:VEVENT
BEGIN:VEVENT
DTSTART;TZID=America/Chicago:20241024T190000
DTEND;TZID=America/Chicago:20241024T220000
DTSTAMP:20260422T173718
CREATED:20241024T024020Z
LAST-MODIFIED:20241024T024519Z
UID:1686-1729796400-1729807200@treehousemo.com
SUMMARY:Paint & Pass Nightmare Before Christmas Edition
DESCRIPTION:This month’s Paint & Pass is Nightmare Before Christmas themed!!! Plus\, you get the choice to either paint on canvas or a pottery piece!Another Art Zone collab and it’s going to be a good one!$15 for the daily membership pass and then you decide which project you want to do OR do them both! Projects start at $15 and are purchased separately. Those prices start at $15.Open d@b bar.BYOC – bring your own cannabis21+
URL:https://treehousemo.com/event/paint-pass-nightmare-before-christmas-edition/
LOCATION:The Treehouse Lounge\, 2142 N Sports Complex Ln\, Suite A\, Nixa\, MO\, 65714\, United States
ORGANIZER;CN="The Treehouse Lounge":MAILTO:thetreehousemo@gmail.com
END:VEVENT
BEGIN:VEVENT
DTSTART;TZID=UTC:20241023T200000
DTEND;TZID=UTC:20241024T010000
DTSTAMP:20260422T173718
CREATED:20241017T025124Z
LAST-MODIFIED:20241024T023109Z
UID:1495-1729713600-1729731600@treehousemo.com
SUMMARY:Suge Livin
DESCRIPTION:WE CELEBRATING SUGE  come out have a good time bring your ID 21+ at the Treehouse  $20 to get in and ALL PROFITS go directly to mom and my nieces  LLSUGE forever! love yall see yall there
URL:https://treehousemo.com/event/suge-livin/
LOCATION:The Treehouse Lounge\, 2142 N Sports Complex Ln\, Suite A\, Nixa\, MO\, 65714\, United States
ATTACH;FMTTYPE=image/jpeg:https://treehousemo.com/wp-content/uploads/2024/10/suge.jpg
ORGANIZER;CN="The Treehouse Lounge":MAILTO:thetreehousemo@gmail.com
END:VEVENT
BEGIN:VEVENT
DTSTART;TZID=UTC:20241020T160000
DTEND;TZID=UTC:20241020T180000
DTSTAMP:20260422T173718
CREATED:20241017T015839Z
LAST-MODIFIED:20241017T015930Z
UID:1483-1729440000-1729447200@treehousemo.com
SUMMARY:Chili Cook-Off
DESCRIPTION:Come for the Chill & Chili Cookoff. Stay for the open d@b bar! Contestants will be bringing their A-game\, each hoping to claim the title of “Chili Champ.” Come sesh\, sample the fire dishes\, and cast your vote for the most lit recipe. PRIZES for 1st Place winner!Whether you’re there to flex your own cooking skills or just to savor the flavors\, this event promises a dope mix of food\, fun\, and community.As always\, The Treehouse Lounge is decked out with cozy corners for you to kick back and enjoy your bowls of chili and c@nnabis.Email us at thetreehousemo@gmail.com if you’re going to compete!21+$15 Daily membership pass (unless you’re a contestant).BYOB – bring your own bud.
URL:https://treehousemo.com/event/1483/
LOCATION:The Treehouse Lounge\, 2142 N Sports Complex Ln\, Suite A\, Nixa\, MO\, 65714\, United States
ATTACH;FMTTYPE=image/png:https://treehousemo.com/wp-content/uploads/2024/10/Chili-cookoff-2.png
ORGANIZER;CN="The Treehouse Lounge":MAILTO:thetreehousemo@gmail.com
END:VEVENT
BEGIN:VEVENT
DTSTART;TZID=UTC:20241018T220000
DTEND;TZID=UTC:20241019T010000
DTSTAMP:20260422T173718
CREATED:20241017T015320Z
LAST-MODIFIED:20241017T021050Z
UID:1477-1729288800-1729299600@treehousemo.com
SUMMARY:Cannabis Commune
DESCRIPTION:After hours Industry Mixer – Free with Agent IDThis event is for people in the industry who want to connect with others in the industry!This month we’re having COSTUME CONTEST with prizes for the BEST COSTUME and MOST CREATIVE!We can’t wait to see what you come up with!Music by DJ REDD!As always\, the d@b bar open.Sponsors:ClovrCampVibe21+
URL:https://treehousemo.com/event/cannabis-commune/
LOCATION:The Treehouse Lounge\, 2142 N Sports Complex Ln\, Suite A\, Nixa\, MO\, 65714\, United States
ATTACH;FMTTYPE=image/png:https://treehousemo.com/wp-content/uploads/2024/10/Cannabis-Commune-4.png
ORGANIZER;CN="The Treehouse Lounge":MAILTO:thetreehousemo@gmail.com
END:VEVENT
BEGIN:VEVENT
DTSTART;TZID=America/Chicago:20241017T190000
DTEND;TZID=America/Chicago:20241017T220000
DTSTAMP:20260422T173718
CREATED:20241017T005726Z
LAST-MODIFIED:20241017T215240Z
UID:1435-1729191600-1729202400@treehousemo.com
SUMMARY:Paint a Possessed Doll
DESCRIPTION:Arrive early! You’ll get to pick your own doll (first come\, first serve)Then settle in with your included pre r°ll and get working on your creepy creation!All materials included.Each doll will come with a customizable Death Certificate. Give it a name\, age\, and its peculiar cause to its demise!D@b Bar included$4521+
URL:https://treehousemo.com/event/paintapossesseddoll/
LOCATION:The Treehouse Lounge\, 2142 N Sports Complex Ln\, Suite A\, Nixa\, MO\, 65714\, United States
ATTACH;FMTTYPE=image/png:https://treehousemo.com/wp-content/uploads/2024/10/Black-Simple-Modern-Horror-Doll-Movie-Poster.png
ORGANIZER;CN="The Treehouse Lounge":MAILTO:thetreehousemo@gmail.com
END:VEVENT
END:VCALENDAR